BEGIN:VCALENDAR
VERSION:2.0
PRODID:-//ChamberMaster//Event Calendar 2.0//EN
METHOD:PUBLISH
X-PUBLISHED-TTL:P3D
REFRESH-INTERVAL:P3D
CALSCALE:GREGORIAN
BEGIN:VEVENT
DTSTART:20221103T230000Z
DTEND:20221104T020000Z
X-MICROSOFT-CDO-ALLDAYEVENT:FALSE
SUMMARY:Member Appreciation Party - Sponsored by Mile High Harley-Davidson
DESCRIPTION:Join us for our 2022 Member Appreciation Party\, sponsored by Mile High Harley-Davidson of Parker!\n\n\n\nIt's Member Appreciation Month at the Parker Chamber\, so come party with us!  We have food\, drink\, and prizes to celebrate YOU\, our members!  We've even hired a professional DJ\, so dancing is a possibility. \n\n\n\nAll this\, and the excitement of seeing the large inventory of new and used Harley-Davidson bikes!\n\n\n\nMembers\, their spouses (and other +1's) are free. Non-members are $5 each. RSVP is strictly required.\n\n\n\nPlease support our Lunchtime Leads Coat Drive by bringing a gently used winter coat. Thank you!
X-ALT-DESC;FMTTYPE=text/html:<br />\n<strong><font color="#003366"><span style="font-size: 22px\;">Join us for our 2022 Member Appreciation Party\, sponsored by Mile High Harley-Davidson of Parker!<br />\n<br />\nIt&#39\;s Member Appreciation Month at the Parker Chamber\, so come party with us!&nbsp\; We have food\, drink\, and prizes to celebrate YOU\, our members!&nbsp\; We&#39\;ve even hired a professional DJ\, so dancing is a possibility.&nbsp\;</span></font><br />\n<br />\n<em><span style="color:#FF0000\;"><span style="font-size: 22px\;">All this\, and the excitement of seeing the large inventory of new and used Harley-Davidson bikes!</span></span></em><br />\n<br />\n<font color="#003366"><span style="font-size: 22px\;">Members\, their spouses (and other +1&#39\;s) are free. Non-members are $5 each. RSVP is strictly required.</span><br />\n<br />\n<i style="font-family: arial\; font-size: 20px\;">Please support our&nbsp\;Lunchtime Leads Coat Drive by&nbsp\;bringing a gently used winter coat. Thank you!&nbsp\;</i></font></strong>
LOCATION:Mile High Harley-Davidson of Parker 6280 E. Pine Lane\, Parker\, CO 80138
UID:e.2085.5813
SEQUENCE:3
DTSTAMP:20260419T221621Z
URL:http://parkerchamber.sampleorg.com/events/details/member-appreciation-party-sponsored-by-mile-high-harley-davidson-5813
END:VEVENT

END:VCALENDAR
