BEGIN:VCALENDAR
VERSION:2.0
PRODID:-//ChamberMaster//Event Calendar 2.0//EN
METHOD:PUBLISH
X-PUBLISHED-TTL:P3D
REFRESH-INTERVAL:P3D
CALSCALE:GREGORIAN
BEGIN:VEVENT
DTSTART:20210925T170000Z
DTEND:20210925T200000Z
X-MICROSOFT-CDO-ALLDAYEVENT:FALSE
SUMMARY:North Pole Family Reunion
DESCRIPTION:The Parker Chamber of Commerce and the Society of Santa is inviting Colorado Santas to Parker for a North Pole Family Reunion. Come for a FUN - FREE - FAMILY event!\n\n\n\nSPONSORS ARE APPRECIATED!\n$25 - Candy Cane Sponsors\n\n$50 - Top of Santa's Good List Sponsors\n\n$75 - Stuffed Animal Sponsors (or supply Chamber with 75 stuffed animals with YOUR COMPANY LOGO - deliver to the Chamber by September 10th)\n\n$100 - Santa Welcome gift and ribbon-cutting sponsors \n\n \n\nThere is no limit to the number of sponsorships per level.\n\n \n\nNON-PROFIT FAIR:\n\n10 x 10 space (your own setup\, takedown and clean up.\n\nFREE TO  CHAMBER MEMBERS\n\n$75 FOR NON-MEMBERS
X-ALT-DESC;FMTTYPE=text/html:<span style="caret-color: rgb(0\, 0\, 0)\; color: rgb(0\, 0\, 0)\; font-family: Calibri\, Helvetica\, sans-serif\, EmojiFont\, &quot\;Apple Color Emoji&quot\;\, &quot\;Segoe UI Emoji&quot\;\, NotoColorEmoji\, &quot\;Segoe UI Symbol&quot\;\, &quot\;Android Emoji&quot\;\, EmojiSymbols\; font-size: 23.040000915527344px\;">The Parker Chamber of Commerce and the </span><span style="color:#FF0000\;"><span style="caret-color: rgb(0\, 0\, 0)\; font-family: Calibri\, Helvetica\, sans-serif\, EmojiFont\, &quot\;Apple Color Emoji&quot\;\, &quot\;Segoe UI Emoji&quot\;\, NotoColorEmoji\, &quot\;Segoe UI Symbol&quot\;\, &quot\;Android Emoji&quot\;\, EmojiSymbols\; font-size: 23.040000915527344px\;">Society of Santa</span></span><span style="caret-color: rgb(0\, 0\, 0)\; color: rgb(0\, 0\, 0)\; font-family: Calibri\, Helvetica\, sans-serif\, EmojiFont\, &quot\;Apple Color Emoji&quot\;\, &quot\;Segoe UI Emoji&quot\;\, NotoColorEmoji\, &quot\;Segoe UI Symbol&quot\;\, &quot\;Android Emoji&quot\;\, EmojiSymbols\; font-size: 23.040000915527344px\;"> is inviting </span><span style="color:#FF0000\;"><span style="caret-color: rgb(0\, 0\, 0)\; font-family: Calibri\, Helvetica\, sans-serif\, EmojiFont\, &quot\;Apple Color Emoji&quot\;\, &quot\;Segoe UI Emoji&quot\;\, NotoColorEmoji\, &quot\;Segoe UI Symbol&quot\;\, &quot\;Android Emoji&quot\;\, EmojiSymbols\; font-size: 23.040000915527344px\;">Colorado Santas</span></span><span style="caret-color: rgb(0\, 0\, 0)\; color: rgb(0\, 0\, 0)\; font-family: Calibri\, Helvetica\, sans-serif\, EmojiFont\, &quot\;Apple Color Emoji&quot\;\, &quot\;Segoe UI Emoji&quot\;\, NotoColorEmoji\, &quot\;Segoe UI Symbol&quot\;\, &quot\;Android Emoji&quot\;\, EmojiSymbols\; font-size: 23.040000915527344px\;"> to Parker for a </span><span style="color:#FF0000\;"><span style="caret-color: rgb(0\, 0\, 0)\; font-family: Calibri\, Helvetica\, sans-serif\, EmojiFont\, &quot\;Apple Color Emoji&quot\;\, &quot\;Segoe UI Emoji&quot\;\, NotoColorEmoji\, &quot\;Segoe UI Symbol&quot\;\, &quot\;Android Emoji&quot\;\, EmojiSymbols\; font-size: 23.040000915527344px\;">North Pole</span></span><span style="caret-color: rgb(0\, 0\, 0)\; color: rgb(0\, 0\, 0)\; font-family: Calibri\, Helvetica\, sans-serif\, EmojiFont\, &quot\;Apple Color Emoji&quot\;\, &quot\;Segoe UI Emoji&quot\;\, NotoColorEmoji\, &quot\;Segoe UI Symbol&quot\;\, &quot\;Android Emoji&quot\;\, EmojiSymbols\; font-size: 23.040000915527344px\;"> </span><span style="color:#008000\;"><span style="caret-color: rgb(0\, 0\, 0)\; font-family: Calibri\, Helvetica\, sans-serif\, EmojiFont\, &quot\;Apple Color Emoji&quot\;\, &quot\;Segoe UI Emoji&quot\;\, NotoColorEmoji\, &quot\;Segoe UI Symbol&quot\;\, &quot\;Android Emoji&quot\;\, EmojiSymbols\; font-size: 23.040000915527344px\;">Family</span></span><span style="caret-color: rgb(0\, 0\, 0)\; color: rgb(0\, 0\, 0)\; font-family: Calibri\, Helvetica\, sans-serif\, EmojiFont\, &quot\;Apple Color Emoji&quot\;\, &quot\;Segoe UI Emoji&quot\;\, NotoColorEmoji\, &quot\;Segoe UI Symbol&quot\;\, &quot\;Android Emoji&quot\;\, EmojiSymbols\; font-size: 23.040000915527344px\;"> </span><span style="color:#FF0000\;"><span style="caret-color: rgb(0\, 0\, 0)\; font-family: Calibri\, Helvetica\, sans-serif\, EmojiFont\, &quot\;Apple Color Emoji&quot\;\, &quot\;Segoe UI Emoji&quot\;\, NotoColorEmoji\, &quot\;Segoe UI Symbol&quot\;\, &quot\;Android Emoji&quot\;\, EmojiSymbols\; font-size: 23.040000915527344px\;">Reunion</span></span><span style="caret-color: rgb(0\, 0\, 0)\; color: rgb(0\, 0\, 0)\; font-family: Calibri\, Helvetica\, sans-serif\, EmojiFont\, &quot\;Apple Color Emoji&quot\;\, &quot\;Segoe UI Emoji&quot\;\, NotoColorEmoji\, &quot\;Segoe UI Symbol&quot\;\, &quot\;Android Emoji&quot\;\, EmojiSymbols\; font-size: 23.040000915527344px\;">. Come for a FUN - FREE - FAMILY event!</span><br />\n<br />\n<span style="color:#FF0000\;"><span style="caret-color: rgb(0\, 0\, 0)\; font-family: Calibri\, Helvetica\, sans-serif\, EmojiFont\, &quot\;Apple Color Emoji&quot\;\, &quot\;Segoe UI Emoji&quot\;\, NotoColorEmoji\, &quot\;Segoe UI Symbol&quot\;\, &quot\;Android Emoji&quot\;\, EmojiSymbols\; font-size: 23.040000915527344px\;">SPONSORS ARE APPRECIATED!</span></span>\n<p style="margin-top: 0px\; margin-bottom: 0px\; caret-color: rgb(0\, 0\, 0)\; color: rgb(0\, 0\, 0)\; font-family: Calibri\, Helvetica\, sans-serif\, EmojiFont\, &quot\;Apple Color Emoji&quot\;\, &quot\;Segoe UI Emoji&quot\;\, NotoColorEmoji\, &quot\;Segoe UI Symbol&quot\;\, &quot\;Android Emoji&quot\;\, EmojiSymbols\; font-size: 23.040000915527344px\;"><span style="color:#008000\;">$25</span> - Candy Cane Sponsors</p>\n\n<p style="margin-top: 0px\; margin-bottom: 0px\; caret-color: rgb(0\, 0\, 0)\; color: rgb(0\, 0\, 0)\; font-family: Calibri\, Helvetica\, sans-serif\, EmojiFont\, &quot\;Apple Color Emoji&quot\;\, &quot\;Segoe UI Emoji&quot\;\, NotoColorEmoji\, &quot\;Segoe UI Symbol&quot\;\, &quot\;Android Emoji&quot\;\, EmojiSymbols\; font-size: 23.040000915527344px\;"><span style="color:#008000\;">$50</span> - Top of Santa&#39\;s Good List Sponsors</p>\n\n<p style="margin-top: 0px\; margin-bottom: 0px\; caret-color: rgb(0\, 0\, 0)\; color: rgb(0\, 0\, 0)\; font-family: Calibri\, Helvetica\, sans-serif\, EmojiFont\, &quot\;Apple Color Emoji&quot\;\, &quot\;Segoe UI Emoji&quot\;\, NotoColorEmoji\, &quot\;Segoe UI Symbol&quot\;\, &quot\;Android Emoji&quot\;\, EmojiSymbols\; font-size: 23.040000915527344px\;"><span style="color:#008000\;">$75</span> - Stuffed Animal Sponsors (or supply Chamber with 75 stuffed animals with YOUR COMPANY LOGO - deliver to the Chamber by September 10th)</p>\n\n<p style="margin-top: 0px\; margin-bottom: 0px\; caret-color: rgb(0\, 0\, 0)\; color: rgb(0\, 0\, 0)\; font-family: Calibri\, Helvetica\, sans-serif\, EmojiFont\, &quot\;Apple Color Emoji&quot\;\, &quot\;Segoe UI Emoji&quot\;\, NotoColorEmoji\, &quot\;Segoe UI Symbol&quot\;\, &quot\;Android Emoji&quot\;\, EmojiSymbols\; font-size: 23.040000915527344px\;"><span style="color:#008000\;">$100</span> - Santa Welcome gift and ribbon-cutting sponsors&nbsp\;<br />\n&nbsp\;</p>\n\n<p style="margin-top: 0px\; margin-bottom: 0px\; caret-color: rgb(0\, 0\, 0)\; color: rgb(0\, 0\, 0)\; font-family: Calibri\, Helvetica\, sans-serif\, EmojiFont\, &quot\;Apple Color Emoji&quot\;\, &quot\;Segoe UI Emoji&quot\;\, NotoColorEmoji\, &quot\;Segoe UI Symbol&quot\;\, &quot\;Android Emoji&quot\;\, EmojiSymbols\; font-size: 23.040000915527344px\;">There is no limit to the number of sponsorships per level.</p>\n\n<p style="margin-top: 0px\; margin-bottom: 0px\; caret-color: rgb(0\, 0\, 0)\; color: rgb(0\, 0\, 0)\; font-family: Calibri\, Helvetica\, sans-serif\, EmojiFont\, &quot\;Apple Color Emoji&quot\;\, &quot\;Segoe UI Emoji&quot\;\, NotoColorEmoji\, &quot\;Segoe UI Symbol&quot\;\, &quot\;Android Emoji&quot\;\, EmojiSymbols\; font-size: 23.040000915527344px\;">&nbsp\;</p>\n\n<p style="margin-top: 0px\; margin-bottom: 0px\; caret-color: rgb(0\, 0\, 0)\; color: rgb(0\, 0\, 0)\; font-family: Calibri\, Helvetica\, sans-serif\, EmojiFont\, &quot\;Apple Color Emoji&quot\;\, &quot\;Segoe UI Emoji&quot\;\, NotoColorEmoji\, &quot\;Segoe UI Symbol&quot\;\, &quot\;Android Emoji&quot\;\, EmojiSymbols\; font-size: 23.040000915527344px\;">NON-PROFIT FAIR:</p>\n\n<p style="margin-top: 0px\; margin-bottom: 0px\; caret-color: rgb(0\, 0\, 0)\; color: rgb(0\, 0\, 0)\; font-family: Calibri\, Helvetica\, sans-serif\, EmojiFont\, &quot\;Apple Color Emoji&quot\;\, &quot\;Segoe UI Emoji&quot\;\, NotoColorEmoji\, &quot\;Segoe UI Symbol&quot\;\, &quot\;Android Emoji&quot\;\, EmojiSymbols\; font-size: 23.040000915527344px\;">10 x 10 space (your own setup\, takedown and clean up.<br />\nFREE TO &nbsp\;CHAMBER MEMBERS<br />\n$75 FOR NON-MEMBERS</p>\n
LOCATION:Parker Station Building - Corner of Mainstreet and Victorian
UID:e.2085.5105
SEQUENCE:3
DTSTAMP:20260420T193913Z
URL:http://parkerchamber.sampleorg.com/events/details/north-pole-family-reunion-5105
END:VEVENT

END:VCALENDAR
