BEGIN:VCALENDAR
VERSION:2.0
PRODID:-//ChamberMaster//Event Calendar 2.0//EN
METHOD:PUBLISH
X-PUBLISHED-TTL:P3D
REFRESH-INTERVAL:P3D
CALSCALE:GREGORIAN
BEGIN:VEVENT
DTSTART;VALUE=DATE:20230608
DTEND;VALUE=DATE:20230612
TRANSP:TRANSPARENT
X-MICROSOFT-CDO-ALLDAYEVENT:TRUE
SUMMARY:PARKER DAYS FESTIVAL
DESCRIPTION:Visit the PARKER DAYS FESTIVAL WEBSITE for more information.\n\n\n\nThis event is presented by the Parker Area Chamber of Commerce Foundation\, a 501c3 non-profit Colorado corporation.\n\n\n\nAll inquiries about the Parker Days Festival should be directed to Dean Menos at dean@eventsbyemg.com or at (303) 596-7004. This includes volunteer opportunities\, sponsorships\, vendors\, food and drink\, special events\, entertainment\, Downtown businesses\, or carnival questions.
X-ALT-DESC;FMTTYPE=text/html:Visit the <strong><a href="http://www.ParkerDaysFestival.com">PARKER DAYS FESTIVAL WEBSITE</a> </strong>for more information.<br />\n<br />\nThis event is presented by the Parker Area Chamber of Commerce Foundation\, a 501c3 non-profit Colorado corporation.<br />\n<br />\nAll inquiries about the <strong>Parker Days Festival</strong> should be directed to Dean Menos at <em><strong><a href="mailto:dean@eventsbyemg.com?subject=Parker%20Days%20Festival">dean@eventsbyemg.com</a></strong></em> or at (303) 596-7004. This includes volunteer opportunities\, sponsorships\, vendors\, food and drink\, special events\, entertainment\, Downtown businesses\, or carnival questions.&nbsp\;
LOCATION:Downtown Parker
UID:e.2085.5899
SEQUENCE:3
DTSTAMP:20260419T125631Z
URL:http://parkerchamber.sampleorg.com/events/details/parker-days-festival-5899
END:VEVENT

END:VCALENDAR
