BEGIN:VCALENDAR
VERSION:2.0
PRODID:-//ChamberMaster//Event Calendar 2.0//EN
METHOD:PUBLISH
X-PUBLISHED-TTL:P3D
REFRESH-INTERVAL:P3D
CALSCALE:GREGORIAN
BEGIN:VEVENT
DTSTART:20210929T000000Z
DTEND:20210929T013000Z
X-MICROSOFT-CDO-ALLDAYEVENT:FALSE
SUMMARY:Parker Young Professionals - Barnett & Son
DESCRIPTION:Join the Parker Young Professionals (ages 21-40)\n\nfor a FUN social event!\n\n\n\n\n\nThe goal is for us to expand this group of Young Professionals and build personal and professional relationships. This event is open to chamber members so please feel free to invite your colleagues. \n\n\n\nPlease make sure to register online.
X-ALT-DESC;FMTTYPE=text/html:<br />\n<span style="font-size:20px\;"><span style="font-family:verdana\;"><strong>Join the Parker Young Professionals (ages 21-40)<br />\nfor a FUN social event!</strong></span></span><br />\n<br />\n<br />\n<span style="font-size:16px\;"><strong>The goal is for us to expand this group of Young Professionals and build personal and professional relationships. This event is open to chamber members so please feel free to invite your colleagues.&nbsp\;<br />\n<br />\nPlease make sure to register online.</strong></span>
LOCATION:Barnett & Son
UID:e.2085.5278
SEQUENCE:3
DTSTAMP:20260420T193949Z
URL:http://parkerchamber.sampleorg.com/events/details/parker-young-professionals-barnett-son-09-28-2021-5278
END:VEVENT

END:VCALENDAR
