BEGIN:VCALENDAR
VERSION:2.0
PRODID:-//ChamberMaster//Event Calendar 2.0//EN
METHOD:PUBLISH
X-PUBLISHED-TTL:P3D
REFRESH-INTERVAL:P3D
CALSCALE:GREGORIAN
BEGIN:VEVENT
DTSTART:20230511T143000Z
DTEND:20230511T154500Z
X-MICROSOFT-CDO-ALLDAYEVENT:FALSE
SUMMARY:PCVC - Parker Chamber Veterans Council Meeting
DESCRIPTION:The Parker Chamber Veterans Council is a group of appointed members who promote the chamber's mission to assist veteran business owners\, professionals\, and entrepreneurs in the Parker area.\n\n\n\nThe PCVC will promote veteran-owned businesses in the Parker area\, provide professional resources for veterans\, and encourage veterans to start businesses in Parker. The group will hold various programs and events. This is the bi-monthly meeting of the council.\n\n\n\nIf you would like to attend this meeting\, please reach out to Chamber CEO T.J. Sullivan at (303) 841-4268.
X-ALT-DESC;FMTTYPE=text/html:<span style="font-size:16px\;">The <strong>Parker Chamber Veterans Council </strong>is a group of appointed members who promote the chamber&#39\;s mission to assist veteran business owners\, professionals\, and entrepreneurs in the Parker area.<br />\n<br />\nThe PCVC will promote veteran-owned businesses in the Parker area\, provide professional resources for veterans\, and encourage veterans to start businesses in Parker. The group will hold various programs and events. This is the bi-monthly meeting of the council.<br />\n<br />\nIf you would like to attend this meeting\, please reach out to Chamber CEO T.J. Sullivan at (303) 841-4268.</span>
LOCATION:The Gathering Space 10423 S Parker Rd Parker\, CO 80134
UID:e.2085.6193
SEQUENCE:3
DTSTAMP:20260419T125626Z
URL:http://parkerchamber.sampleorg.com/events/details/pcvc-parker-chamber-veterans-council-meeting-6193
END:VEVENT

END:VCALENDAR
