BEGIN:VCALENDAR
VERSION:2.0
PRODID:-//ChamberMaster//Event Calendar 2.0//EN
METHOD:PUBLISH
X-PUBLISHED-TTL:P3D
REFRESH-INTERVAL:P3D
CALSCALE:GREGORIAN
BEGIN:VEVENT
DTSTART:20211023T000000Z
DTEND:20211023T030000Z
X-MICROSOFT-CDO-ALLDAYEVENT:FALSE
SUMMARY:Ribbon Cutting & Anniversary Celebration - Beautiful Art Picture Framing
DESCRIPTION:Beautiful Art's Gallery Re-Grand Opening!\n\nJoin us on Friday\, October 22nd from 6:00pm - 9:00pm!!! \n\nStarting at 6:00pm we will have a Ribbon Cutting Ceremony by the\n\nParker Chamber of Commerce!\n\nEnjoy Live Music by Tony Airozo from Orchard Road!\n\nWe will have Catered Food by Tontis Pizzaria\,\n\nA Beautiful Cake Designed by Danielle Hundt\n\nfrom Sugar & Spice Colorado Green Chili & Bakery! \n\nNon-Alcoholic Beverages!\n\nGive-A-Ways! \n\nMeet & Greet from the Gallery Artists! \n\nCome and Join the FUN & CELEBRATION!
X-ALT-DESC;FMTTYPE=text/html:<p class="_04xlpA direction-ltr align-center para-style-body" style="line-height: 1.4\; font-family: &quot\;YAD7Q9NigKI 0&quot\;\, _fb_\, auto\;">&nbsp\;</p>\n\n<p style="margin: 0px\; font-size: 15px\; font-family: &quot\;Open Sans&quot\;\, sans-serif\; color: rgb(0\, 0\, 0)\; text-rendering: optimizeLegibility\; caret-color: rgb(0\, 0\, 0)\; text-align: center\;"><span style="font-size:22px\;"><span style="color:#000080\;"><span style="text-decoration: underline\;"><em><strong>Beautiful Art&#39\;s Gallery Re-Grand Opening!</strong></em></span></span></span></p>\n\n<p style="margin: 0px\; font-size: 15px\; font-family: &quot\;Open Sans&quot\;\, sans-serif\; color: rgb(0\, 0\, 0)\; text-rendering: optimizeLegibility\; caret-color: rgb(0\, 0\, 0)\; text-align: center\;"><span style="font-size:22px\;"><span style="color:#000080\;"><span style="text-decoration: underline\;"><em><strong>Join us on Friday\, October 22nd from 6:00pm - 9:00pm!!!&nbsp\;</strong></em></span></span></span></p>\n\n<p style="margin: 0px\; font-size: 15px\; font-family: &quot\;Open Sans&quot\;\, sans-serif\; color: rgb(0\, 0\, 0)\; text-rendering: optimizeLegibility\; caret-color: rgb(0\, 0\, 0)\; text-align: center\;"><span style="font-size:22px\;"><span style="color:#000080\;"><span style="text-decoration: underline\;"><em><strong>Starting at 6:00pm we will have a Ribbon Cutting Ceremony by the</strong></em></span></span></span></p>\n\n<p style="margin: 0px\; font-size: 15px\; font-family: &quot\;Open Sans&quot\;\, sans-serif\; color: rgb(0\, 0\, 0)\; text-rendering: optimizeLegibility\; caret-color: rgb(0\, 0\, 0)\; text-align: center\;"><span style="font-size:22px\;"><span style="color:#000080\;"><span style="text-decoration: underline\;"><em><strong>Parker Chamber of Commerce!</strong></em></span></span></span></p>\n\n<p style="margin: 0px\; font-size: 15px\; font-family: &quot\;Open Sans&quot\;\, sans-serif\; color: rgb(0\, 0\, 0)\; text-rendering: optimizeLegibility\; caret-color: rgb(0\, 0\, 0)\; text-align: center\;"><span style="font-size:22px\;"><span style="color:#000080\;"><span style="text-decoration: underline\;"><em><strong>Enjoy Live Music by Tony Airozo from Orchard Road!</strong></em></span></span></span></p>\n\n<p style="margin: 0px\; font-size: 15px\; font-family: &quot\;Open Sans&quot\;\, sans-serif\; color: rgb(0\, 0\, 0)\; text-rendering: optimizeLegibility\; caret-color: rgb(0\, 0\, 0)\; text-align: center\;"><span style="font-size:22px\;"><span style="color:#000080\;"><span style="text-decoration: underline\;"><em><strong>We will have Catered Food by Tontis Pizzaria\,</strong></em></span></span></span></p>\n\n<p style="margin: 0px\; font-size: 15px\; font-family: &quot\;Open Sans&quot\;\, sans-serif\; color: rgb(0\, 0\, 0)\; text-rendering: optimizeLegibility\; caret-color: rgb(0\, 0\, 0)\; text-align: center\;"><span style="font-size:22px\;"><span style="color:#000080\;"><span style="text-decoration: underline\;"><em><strong>A Beautiful Cake Designed by Danielle Hundt</strong></em></span></span></span></p>\n\n<p style="margin: 0px\; font-size: 15px\; font-family: &quot\;Open Sans&quot\;\, sans-serif\; color: rgb(0\, 0\, 0)\; text-rendering: optimizeLegibility\; caret-color: rgb(0\, 0\, 0)\; text-align: center\;"><span style="font-size:22px\;"><span style="color:#000080\;"><span style="text-decoration: underline\;"><em><strong>from Sugar &amp\; Spice Colorado Green Chili &amp\; Bakery!&nbsp\;</strong></em></span></span></span></p>\n\n<p style="margin: 0px\; font-size: 15px\; font-family: &quot\;Open Sans&quot\;\, sans-serif\; color: rgb(0\, 0\, 0)\; text-rendering: optimizeLegibility\; caret-color: rgb(0\, 0\, 0)\; text-align: center\;"><span style="font-size:22px\;"><span style="color:#000080\;"><span style="text-decoration: underline\;"><em><strong>Non-Alcoholic Beverages!</strong></em></span></span></span></p>\n\n<p style="margin: 0px\; font-size: 15px\; font-family: &quot\;Open Sans&quot\;\, sans-serif\; color: rgb(0\, 0\, 0)\; text-rendering: optimizeLegibility\; caret-color: rgb(0\, 0\, 0)\; text-align: center\;"><span style="font-size:22px\;"><span style="color:#000080\;"><span style="text-decoration: underline\;"><em><strong>Give-A-Ways!&nbsp\;</strong></em></span></span></span></p>\n\n<p style="margin: 0px\; font-size: 15px\; font-family: &quot\;Open Sans&quot\;\, sans-serif\; color: rgb(0\, 0\, 0)\; text-rendering: optimizeLegibility\; caret-color: rgb(0\, 0\, 0)\; text-align: center\;"><span style="font-size:22px\;"><span style="color:#000080\;"><span style="text-decoration: underline\;"><em><strong>Meet &amp\; Greet from the Gallery Artists!&nbsp\;</strong></em></span></span></span></p>\n\n<p style="margin: 0px\; font-size: 15px\; font-family: &quot\;Open Sans&quot\;\, sans-serif\; color: rgb(0\, 0\, 0)\; text-rendering: optimizeLegibility\; caret-color: rgb(0\, 0\, 0)\; text-align: center\;"><span style="color:#800000\;"><span style="font-size:22px\;"><span style="text-decoration: underline\;"><em><strong>Come and Join the FUN &amp\; CELEBRATION!</strong></em></span></span></span></p>\n
LOCATION:10501 E. Main St. Ste 103 Parker\, CO 80138
UID:e.2085.5302
SEQUENCE:3
DTSTAMP:20260420T180146Z
URL:http://parkerchamber.sampleorg.com/events/details/ribbon-cutting-anniversary-celebration-beautiful-art-picture-framing-5302
END:VEVENT

END:VCALENDAR
