BEGIN:VCALENDAR
VERSION:2.0
PRODID:-//ChamberMaster//Event Calendar 2.0//EN
METHOD:PUBLISH
X-PUBLISHED-TTL:P3D
REFRESH-INTERVAL:P3D
CALSCALE:GREGORIAN
BEGIN:VEVENT
DTSTART:20220914T223000Z
DTEND:20220914T233000Z
X-MICROSOFT-CDO-ALLDAYEVENT:FALSE
SUMMARY:Ribbon Cutting - Coldwell Banker Realty/Nikki Quinn
DESCRIPTION:Coldwell Banker Realty is celebrating the opening of their Parker location.
X-ALT-DESC;FMTTYPE=text/html:<p class="_04xlpA direction-ltr align-center para-style-body" style="line-height: 1.4\;"><strong><font color="#000000" face="times new roman"><span style="caret-color: rgb(0\, 0\, 0)\; font-size: 20px\;">Coldwell&nbsp\;Banker Realty is celebrating&nbsp\;the opening of their Parker location.</span></font></strong><br />\n<font face="YAD7Q9NigKI 0\, _fb_\, auto">&nbsp\; &nbsp\; &nbsp\; &nbsp\; &nbsp\; &nbsp\; &nbsp\; &nbsp\; &nbsp\; &nbsp\; &nbsp\; &nbsp\; &nbsp\; &nbsp\; &nbsp\; &nbsp\; &nbsp\; &nbsp\; &nbsp\; &nbsp\; &nbsp\; &nbsp\; &nbsp\; &nbsp\; &nbsp\; &nbsp\; &nbsp\; &nbsp\; &nbsp\;&nbsp\;</font></p>\n\n<div>&nbsp\;</div>\n
LOCATION:18801 E Mainstreet # 250 Parker\, CO 80134
UID:e.2085.5811
SEQUENCE:3
DTSTAMP:20260420T011718Z
URL:http://parkerchamber.sampleorg.com/events/details/ribbon-cutting-coldwell-banker-realty-nikki-quinn-5811
END:VEVENT

END:VCALENDAR
