BEGIN:VCALENDAR
VERSION:2.0
PRODID:-//ChamberMaster//Event Calendar 2.0//EN
METHOD:PUBLISH
X-PUBLISHED-TTL:P3D
REFRESH-INTERVAL:P3D
CALSCALE:GREGORIAN
BEGIN:VEVENT
DTSTART:20220419T223000Z
DTEND:20220419T233000Z
X-MICROSOFT-CDO-ALLDAYEVENT:FALSE
SUMMARY:Ribbon Cutting - Colorado Center for Functional Medicine
DESCRIPTION:Colorado Center for Functional Medicine celebrates the Grand Opening for their Parker location!\n\n\n\nA Better Way to Heal\n\n Helping you overcome your health issues by finding the root cause and addressing it through education\, nutrition and lifestyle.
X-ALT-DESC;FMTTYPE=text/html:<p class="_04xlpA direction-ltr align-center para-style-body" style="line-height: 1.4\; text-align: center\;"><span style="color:#3399ff\;"><span style="font-size:26px\;"><strong>Colorado Center for Functional Medicine celebrates the Grand Opening for their Parker location!</strong></span></span><br />\n<br />\n<span style="font-size:20px\;"><span style="color:#3399ff\;"><font face="YAD7Q9NigKI 0\, _fb_\, auto">A Better Way to Heal</font></span><br />\n<font face="YAD7Q9NigKI 0\, _fb_\, auto"><span style="color:#3399ff\;">&#8203\;Helping you overcome your health issues by finding the root cause and addressing it&nbsp\;through education\, nutrition and lifestyle.</span>&nbsp\;</font></span><br />\n&nbsp\;</p>\n
LOCATION:19751 E Mainstreet #265 Parker\, CO 80138
UID:e.2085.5516
SEQUENCE:3
DTSTAMP:20260420T090300Z
URL:http://parkerchamber.sampleorg.com/events/details/ribbon-cutting-colorado-center-for-functional-medicine-5516
END:VEVENT

END:VCALENDAR
