BEGIN:VCALENDAR
VERSION:2.0
PRODID:-//ChamberMaster//Event Calendar 2.0//EN
METHOD:PUBLISH
X-PUBLISHED-TTL:P3D
REFRESH-INTERVAL:P3D
CALSCALE:GREGORIAN
BEGIN:VEVENT
DTSTART:20230302T233000Z
DTEND:20230303T003000Z
X-MICROSOFT-CDO-ALLDAYEVENT:FALSE
SUMMARY:Ribbon Cutting - Dragonfly Pediatric Speech Therapy
DESCRIPTION:Dragonfly Pediatric Speech Therapy\n\nCelebrating their grand opening with a Ribbon Cutting.\n\n\n\nBuilding communication through relationships and play.\n\n\n\nAs a small and locally owned speech therapy practice\, we take the time to build relationships with every family that we serve. Our sessions are play-based\, neurodiversity affirming\, and built around each child's strengths and interests. Children make the most progress when their parents and caregivers are involved in the therapy process\, so you are always welcome to join in on the fun!
X-ALT-DESC;FMTTYPE=text/html:<p class="_04xlpA direction-ltr align-center para-style-body" style="line-height: 1.4\;"><span color:="" style="font-family: " yad7q9nigki=""><span style="font-size:22px\;"><strong style="font-size: 16px\;"><span style="caret-color: rgb(0\, 0\, 0)\; font-family: Catamaran\;"><span style="font-size:26px\;">Dragonfly Pediatric Speech Therapy</span></span></strong></span></span></p>\n\n<p class="_04xlpA direction-ltr align-center para-style-body" style="line-height: 1.4\;"><strong><font color="#000000" face="times new roman"><span style="caret-color: rgb(0\, 0\, 0)\; font-size: 22px\;">Celebrating their grand opening with a Ribbon Cutting.</span></font></strong><br />\n<br />\n<span style="color:#008080\;"><em><span style="font-family:comic sans ms\;"><span style="font-size:22px\;"><span class="color_28" style="border: 0px\; margin: 0px\; outline: 0px\; padding: 0px\; vertical-align: baseline\;">Building communication through relationships and play.</span></span></span></em></span><br />\n<br />\n<span style="font-size:22px\;"><span style="color:#800080\;">As a small and locally owned speech therapy practice\, we take the time to build relationships with every family that we serve. Our sessions are play-based\, neurodiversity affirming\, and built around each child&#39\;s strengths and interests. Children make the most progress when their parents and caregivers are involved in the therapy process\, so you are always welcome to join in on the fun!</span></span></p>\n\n<p class="_04xlpA direction-ltr align-center para-style-body" style="line-height: 1.4\;"><br />\n&nbsp\;</p>\n\n<p class="_04xlpA direction-ltr align-center para-style-body" style="line-height: 1.4\;"><br />\n<font face="YAD7Q9NigKI 0\, _fb_\, auto">&nbsp\; &nbsp\; &nbsp\; &nbsp\; &nbsp\; &nbsp\; &nbsp\; &nbsp\; &nbsp\; &nbsp\; &nbsp\; &nbsp\; &nbsp\; &nbsp\; &nbsp\; &nbsp\; &nbsp\; &nbsp\; &nbsp\; &nbsp\; &nbsp\; &nbsp\; &nbsp\; &nbsp\; &nbsp\; &nbsp\; &nbsp\; &nbsp\; &nbsp\; &nbsp\; &nbsp\; &nbsp\;</font></p>\n\n<div>&nbsp\;</div>\n
LOCATION:Dragonfly Pediatric Speech Therapy 10246 Progress Lane Parker\, CO 80134
UID:e.2085.5912
SEQUENCE:3
DTSTAMP:20260419T160356Z
URL:http://parkerchamber.sampleorg.com/events/details/ribbon-cutting-dragonfly-pediatric-speech-therapy-5912
END:VEVENT

END:VCALENDAR
