BEGIN:VCALENDAR
VERSION:2.0
PRODID:-//ChamberMaster//Event Calendar 2.0//EN
METHOD:PUBLISH
X-PUBLISHED-TTL:P3D
REFRESH-INTERVAL:P3D
CALSCALE:GREGORIAN
BEGIN:VEVENT
DTSTART:20230601T223000Z
DTEND:20230601T233000Z
X-MICROSOFT-CDO-ALLDAYEVENT:FALSE
SUMMARY:Ribbon Cutting - Fiction Brewing Company
DESCRIPTION:Fiction Brewing Company\n\nCelebrating their Grand Opening with a Ribbon Cutting.
X-ALT-DESC;FMTTYPE=text/html:<p class="_04xlpA direction-ltr align-center para-style-body" style="line-height: 1.4\;"><span color:="" yad7q9nigki=""><span style="font-size:22px\;"><strong style="font-size: 16px\;"><span style="caret-color: rgb(0\, 0\, 0)\; font-family: Catamaran\;"><span style="font-size:26px\;">Fiction Brewing Company</span></span></strong></span></span></p>\n\n<p class="_04xlpA direction-ltr align-center para-style-body" style="line-height: 1.4\;"><strong><font color="#000000" face="times new roman"><span style="caret-color: rgb(0\, 0\, 0)\; font-size: 22px\;">Celebrating their Grand Opening with a Ribbon Cutting.</span></font></strong><br />\n<br />\n&nbsp\;</p>\n\n<p class="_04xlpA direction-ltr align-center para-style-body" style="line-height: 1.4\;"><br />\n<font face="YAD7Q9NigKI 0\, _fb_\, auto">&nbsp\; &nbsp\; &nbsp\; &nbsp\; &nbsp\; &nbsp\; &nbsp\; &nbsp\; &nbsp\; &nbsp\; &nbsp\; &nbsp\; &nbsp\; &nbsp\; &nbsp\; &nbsp\; &nbsp\; &nbsp\; &nbsp\; &nbsp\; &nbsp\; &nbsp\; &nbsp\; &nbsp\; &nbsp\; &nbsp\; &nbsp\; &nbsp\; &nbsp\; &nbsp\; &nbsp\; &nbsp\;</font></p>\n\n<div>&nbsp\;</div>\n
LOCATION:Fiction Beer Company 19523 Hess Road Unit 103 Parker\, CO 80134
UID:e.2085.6208
SEQUENCE:3
DTSTAMP:20260419T125627Z
URL:http://parkerchamber.sampleorg.com/events/details/ribbon-cutting-fiction-brewing-company-6208
END:VEVENT

END:VCALENDAR
