BEGIN:VCALENDAR
VERSION:2.0
PRODID:-//ChamberMaster//Event Calendar 2.0//EN
METHOD:PUBLISH
X-PUBLISHED-TTL:P3D
REFRESH-INTERVAL:P3D
CALSCALE:GREGORIAN
BEGIN:VEVENT
DTSTART:20221013T223000Z
DTEND:20221013T233000Z
X-MICROSOFT-CDO-ALLDAYEVENT:FALSE
SUMMARY:Ribbon Cutting & Grand Opening - Aesthetics 360 Lash & Med Spa
DESCRIPTION:Aesthetics 360 Lash & Med Spa\n\ncelebrates a Ribbon Cutting and Grand Opening under new ownership.
X-ALT-DESC;FMTTYPE=text/html:<p class="_04xlpA direction-ltr align-center para-style-body" style="line-height: 1.4\;"><font color="#000000" face="Catamaran"><span style="caret-color: rgb(0\, 0\, 0)\; font-size: 26px\;"><b>Aesthetics 360 Lash &amp\; Med Spa</b></span></font><br />\n<span style="font-family: &quot\;YAD7Q9NigKI 0&quot\;\, _fb_\, auto\; color: rgb(0\, 0\, 255)\;"><span style="font-size:22px\;"><span style="font-family:times new roman\;"><strong style="caret-color: rgb(0\, 0\, 0)\; color: rgb(0\, 0\, 0)\;">celebrates a Ribbon Cutting and&nbsp\;Grand Opening under new ownership.</strong></span></span></span><br />\n<font face="YAD7Q9NigKI 0\, _fb_\, auto">&nbsp\; &nbsp\; &nbsp\; &nbsp\; &nbsp\; &nbsp\; &nbsp\; &nbsp\; &nbsp\; &nbsp\; &nbsp\; &nbsp\; &nbsp\; &nbsp\; &nbsp\; &nbsp\; &nbsp\; &nbsp\; &nbsp\; &nbsp\; &nbsp\; &nbsp\; &nbsp\; &nbsp\; &nbsp\; &nbsp\; &nbsp\; &nbsp\; &nbsp\; &nbsp\; &nbsp\; &nbsp\;</font></p>\n\n<div>&nbsp\;</div>\n
LOCATION:Aesthetics 360 Lash & Med Spa 19647 Solar Circle Suite B202 Parker\, CO 80134
UID:e.2085.5823
SEQUENCE:3
DTSTAMP:20260419T235221Z
URL:http://parkerchamber.sampleorg.com/events/details/ribbon-cutting-grand-opening-aesthetics-360-lash-med-spa-5823
END:VEVENT

END:VCALENDAR
