BEGIN:VCALENDAR
VERSION:2.0
PRODID:-//ChamberMaster//Event Calendar 2.0//EN
METHOD:PUBLISH
X-PUBLISHED-TTL:P3D
REFRESH-INTERVAL:P3D
CALSCALE:GREGORIAN
BEGIN:VEVENT
DTSTART:20211021T223000Z
DTEND:20211022T000000Z
X-MICROSOFT-CDO-ALLDAYEVENT:FALSE
SUMMARY:Ribbon Cutting & Grand Opening - Injury Care Associates
DESCRIPTION:Injury Care Associates celebrates the Grand Opening of their Parker location by hosting the Building Warriors Charity Event. There will be free BBQ and the Charity Cornhole event.
X-ALT-DESC;FMTTYPE=text/html:<p class="_04xlpA direction-ltr align-center para-style-body" style="line-height: 1.4\; font-family: &quot\;YAD7Q9NigKI 0&quot\;\, _fb_\, auto\;"><span style="font-size:20px\;"><span style="font-family:times new roman\;"><strong style="caret-color: rgb(0\, 0\, 0)\; color: rgb(0\, 0\, 0)\;">Injury Care Associates celebrates the Grand Opening of their Parker location by hosting the Building Warriors Charity Event.&nbsp\;</strong><strong style="caret-color: rgb(0\, 0\, 0)\;">There will be free BBQ and the Charity Cornhole event.</strong></span></span></p>\n\n<div>&nbsp\;</div>\n
LOCATION:Injury Care Associates 19284 Cottonwood Dr\, Ste 104 Parker\, CO 80138
UID:e.2085.5297
SEQUENCE:3
DTSTAMP:20260420T193230Z
URL:http://parkerchamber.sampleorg.com/events/details/ribbon-cutting-grand-opening-injury-care-associates-5297
END:VEVENT

END:VCALENDAR
