BEGIN:VCALENDAR
VERSION:2.0
PRODID:-//ChamberMaster//Event Calendar 2.0//EN
METHOD:PUBLISH
X-PUBLISHED-TTL:P3D
REFRESH-INTERVAL:P3D
CALSCALE:GREGORIAN
BEGIN:VEVENT
DTSTART:20221110T233000Z
DTEND:20221111T003000Z
X-MICROSOFT-CDO-ALLDAYEVENT:FALSE
SUMMARY:Ribbon Cutting & Grand Opening - LaQuinta by Wyndham Parker
DESCRIPTION:LaQuinta by Wyndham Parker\n\ncelebrates their Grand Opening with a Ribbon Cutting at their new Parker location.
X-ALT-DESC;FMTTYPE=text/html:<p class="_04xlpA direction-ltr align-center para-style-body" style="line-height: 1.4\;"><span style="font-family: &quot\;YAD7Q9NigKI 0&quot\;\, _fb_\, auto\; color: rgb(0\, 0\, 0)\;"><span style="font-size:22px\;"><strong style="font-size: 16px\;"><span style="caret-color: rgb(0\, 0\, 0)\; font-family: Catamaran\;"><span style="font-size:26px\;">LaQuinta by Wyndham Parker</span></span></strong></span></span><br />\n<strong><font color="#000000" face="times new roman"><span style="caret-color: rgb(0\, 0\, 0)\; font-size: 22px\;">celebrates their&nbsp\;Grand Opening with a Ribbon Cutting at their new Parker location.</span></font></strong><br />\n<font face="YAD7Q9NigKI 0\, _fb_\, auto">&nbsp\; &nbsp\; &nbsp\; &nbsp\; &nbsp\; &nbsp\; &nbsp\; &nbsp\; &nbsp\; &nbsp\; &nbsp\; &nbsp\; &nbsp\; &nbsp\; &nbsp\; &nbsp\; &nbsp\; &nbsp\; &nbsp\; &nbsp\; &nbsp\; &nbsp\; &nbsp\; &nbsp\; &nbsp\; &nbsp\; &nbsp\; &nbsp\; &nbsp\; &nbsp\; &nbsp\; &nbsp\;</font></p>\n\n<div>&nbsp\;</div>\n
LOCATION:LaQuinta by Wyndham Parker 17111 Carlson Dr Parker\, CO 80134
UID:e.2085.5824
SEQUENCE:3
DTSTAMP:20260419T221719Z
URL:http://parkerchamber.sampleorg.com/events/details/ribbon-cutting-grand-opening-laquinta-by-wyndham-parker-5824
END:VEVENT

END:VCALENDAR
