BEGIN:VCALENDAR
VERSION:2.0
PRODID:-//ChamberMaster//Event Calendar 2.0//EN
METHOD:PUBLISH
X-PUBLISHED-TTL:P3D
REFRESH-INTERVAL:P3D
CALSCALE:GREGORIAN
BEGIN:VEVENT
DTSTART:20230210T183000Z
DTEND:20230210T193000Z
X-MICROSOFT-CDO-ALLDAYEVENT:FALSE
SUMMARY:Ribbon Cutting & Grand Opening - US Bank
DESCRIPTION:US Bank is celebrating their Grand Opening with a Ribbon Cutting.\n\n\n\nThe Stonegate Branch is opening their doors to bigger and brighter futures. Come join in the ribbon cutting ceremony\, check presentations to local non-profits and free lunch!
X-ALT-DESC;FMTTYPE=text/html:<p class="_04xlpA direction-ltr align-center para-style-body" style="line-height: 1.4\;"><strong><font color="#000000"><span style="font-size: 22px\;"><span style="caret-color: rgb(0\, 0\, 0)\;">US Bank is&nbsp\;</span>celebrating their Grand Opening&nbsp\;with a Ribbon Cutting.</span><br />\n<br />\n<span style="font-size: 22px\;">The Stonegate Branch is&nbsp\;opening their doors to bigger and brighter futures.&nbsp\;Come join in the ribbon cutting ceremony\, check presentations to local non-profits and free lunch!</span></font></strong></p>\n\n<div>&nbsp\;</div>\n
LOCATION:US Bank - Stonegate 16961 Lincoln Ave Parker CO 80134
UID:e.2085.5902
SEQUENCE:3
DTSTAMP:20260419T173954Z
URL:http://parkerchamber.sampleorg.com/events/details/ribbon-cutting-grand-opening-us-bank-5902
END:VEVENT

END:VCALENDAR
