BEGIN:VCALENDAR
VERSION:2.0
PRODID:-//ChamberMaster//Event Calendar 2.0//EN
METHOD:PUBLISH
X-PUBLISHED-TTL:P3D
REFRESH-INTERVAL:P3D
CALSCALE:GREGORIAN
BEGIN:VEVENT
DTSTART:20220118T233000Z
DTEND:20220119T010000Z
X-MICROSOFT-CDO-ALLDAYEVENT:FALSE
SUMMARY:Ribbon Cutting - HotWorx
DESCRIPTION:HotWorx celebrates the Grand Opening of their Parker location.
X-ALT-DESC;FMTTYPE=text/html:<p class="_04xlpA direction-ltr align-center para-style-body" style="line-height: 1.4\; font-family: &quot\;YAD7Q9NigKI 0&quot\;\, _fb_\, auto\;"><span style="font-size:20px\;"><span style="font-family:times new roman\;"><strong style="caret-color: rgb(0\, 0\, 0)\; color: rgb(0\, 0\, 0)\;">HotWorx celebrates the Grand Opening of their Parker location.</strong></span></span><br />\n&nbsp\; &nbsp\; &nbsp\; &nbsp\; &nbsp\; &nbsp\; &nbsp\; &nbsp\; &nbsp\; &nbsp\; &nbsp\; &nbsp\; &nbsp\; &nbsp\; &nbsp\; &nbsp\; &nbsp\; &nbsp\; &nbsp\; &nbsp\; &nbsp\; &nbsp\; &nbsp\; &nbsp\; &nbsp\; &nbsp\; &nbsp\; &nbsp\; &nbsp\;&nbsp\;</p>\n\n<div>&nbsp\;</div>\n
LOCATION:HOTWORX 12929 Stroh Ranch Circle E. Parker\, Colorado 80134
UID:e.2085.5388
SEQUENCE:3
DTSTAMP:20260420T133049Z
URL:http://parkerchamber.sampleorg.com/events/details/ribbon-cutting-hotworx-5388
END:VEVENT

END:VCALENDAR
