BEGIN:VCALENDAR
VERSION:2.0
PRODID:-//ChamberMaster//Event Calendar 2.0//EN
METHOD:PUBLISH
X-PUBLISHED-TTL:P3D
REFRESH-INTERVAL:P3D
CALSCALE:GREGORIAN
BEGIN:VEVENT
DTSTART:20230418T173000Z
DTEND:20230418T200000Z
X-MICROSOFT-CDO-ALLDAYEVENT:FALSE
SUMMARY:Ribbon Cutting - Parker Postal Center and Wildrose Boutique
DESCRIPTION:Parker Postal Center and Wildrose Boutique\n\nThe Stonegate CPU Center is re-opening as the Parker Postal Center and Wildrose Boutique!  \n\n \n\nWe are happy to announce that that we have taken over the local Parker Postal Center (formerly Stonegate CPU)\, and have opened another one of our signature Wild Rose Boutiques.  We are John and Karla Tartz and we live in Castle Pines\, Colorado.  The Parker store is our fourth location! The others are located in Castle Pines\, Lone Tree and Highlands Ranch.\n\n \n\nAs proven owners of our three other locations\, we promise our customers fully stocked stamps\, all shipping products/services\, and above all\, stellar customer service. We are proud to combine cost effective USPS postage and shipping services in one location\, all while showcasing our unique gifts\, clothing and home d cor items.   \n\n \n\nNot to worry - the same bright\, happy faces will be behind the counter!  And to ensure our customers experience a fresh\, modern feel when they walk through our doors\, we will be remodeling the space\, but will remain open during construction!\n\n \n\nAt Wild Rose\, our priority is providing the best possible buying experience for each and every one of our customers. We combine fast and efficient USPS postal services with the personal touch of our very own Coloradoan boutique\; with thousands of local customers\, 1 million boxes shipped\, and hundreds of in-store products and counting\, we aren't just the best new shipping center in Parker\; we are Parker's one and only Boutique Post Office\, where no order is too big or too small\, and you will always find the gift you're looking for. \n\n \n\nWe invite you to experience the difference for yourselves.  Stop by our ribbon cutting on April 18\, 2023 (Tax Day) from 11:30   2:00 (ribbon cutting at noon).  Come pay your taxes and enjoy a hot dog and a Coke  on us!   You really can't get more American than that!  Also we be raffling off the grill we are using to grill our hot dogs!
X-ALT-DESC;FMTTYPE=text/html:<p class="_04xlpA direction-ltr align-center para-style-body" style="line-height: 1.4\;"><span style="font-size:24px\;"><span style="color:#800080\;"><span style="font-family:times new roman\;"><strong>Parker Postal Center and Wildrose Boutique</strong></span></span></span></p>\n\n<p class="_04xlpA direction-ltr align-center para-style-body" style="line-height: 1.4\;"><span style="font-size:20px\;">The Stonegate CPU Center is re-opening as the Parker Postal Center and Wildrose Boutique! &nbsp\;<br />\n&nbsp\;<br />\nWe are happy to announce that that we have taken over the local Parker Postal Center (formerly Stonegate CPU)\, and have opened another one of our signature Wild Rose Boutiques.&nbsp\; We are John and Karla Tartz and we live in Castle Pines\, Colorado.&nbsp\; The Parker store is our fourth location! The others are located in Castle Pines\, Lone Tree and Highlands Ranch.<br />\n&nbsp\;<br />\nAs proven owners of our three other locations\, we promise our customers&nbsp\;<strong>fully stocked stamps\, all shipping products/services\, and above all\, stellar customer service</strong>. We are proud to combine cost effective USPS postage and shipping services in one location\, all while showcasing our unique gifts\, clothing and home d&eacute\;cor items. &nbsp\;&nbsp\;<br />\n&nbsp\;<br />\nNot to worry - the same bright\, happy faces will be behind the counter! &nbsp\;And to ensure our customers experience a fresh\, modern feel when they walk through our doors\, we will be remodeling the space\, but will remain open during construction!<br />\n&nbsp\;<br />\nAt Wild Rose\, our priority is providing the best possible buying experience for each and every one of our customers. We combine fast and efficient USPS postal services with the personal touch of our very own Coloradoan boutique\;&nbsp\;<strong>with thousands of local customers\, 1 million boxes shipped\, and hundreds of in-store products and counting</strong>\, we aren&#39\;t just the best new shipping center in Parker\; we are Parker&rsquo\;s one and only Boutique Post Office\, where no order is too big or too small\, and you will always find the gift you&#39\;re looking for.&nbsp\;<br />\n&nbsp\;<br />\nWe invite you to experience the difference for yourselves.&nbsp\;&nbsp\;<span contextualstring="Stop by our ribbon cutting on April 18\, 2023 (Tax Day) from 11:30 ? 2:00 (ribbon cutting at noon)." id="WEBEXT" style="border-bottom-width:1px\;border-bottom-style:dashed\;"><span style="color:#0072c6\;">Stop by our ribbon cutting on April 18\, 2023 (Tax Day) from 11:30 &ndash\; 2:00 (ribbon cutting at noon).</span></span>&nbsp\; Come pay your taxes and enjoy a hot dog and a Coke&reg\; on us!&nbsp\; &nbsp\;You really can&rsquo\;t get more American than that! &nbsp\;Also we be raffling off the grill we are using to grill our hot dogs!&nbsp\;&nbsp\;</span><br />\n&nbsp\;</p>\n\n<div>&nbsp\;</div>\n
LOCATION:Parker Postal Center and Wildrose Boutique 16522 Keystone Blvd A2 Parker CO 80134
UID:e.2085.6202
SEQUENCE:3
DTSTAMP:20260419T160744Z
URL:http://parkerchamber.sampleorg.com/events/details/ribbon-cutting-parker-postal-center-and-wildrose-boutique-6202
END:VEVENT

END:VCALENDAR
