BEGIN:VCALENDAR
VERSION:2.0
PRODID:-//ChamberMaster//Event Calendar 2.0//EN
METHOD:PUBLISH
X-PUBLISHED-TTL:P3D
REFRESH-INTERVAL:P3D
CALSCALE:GREGORIAN
BEGIN:VEVENT
DTSTART:20220629T170000Z
DTEND:20220629T180000Z
X-MICROSOFT-CDO-ALLDAYEVENT:FALSE
SUMMARY:Ribbon Cutting PetWellClinic
DESCRIPTION:PetWellClinic celebrates the Grand Opening of their Parker location.
X-ALT-DESC;FMTTYPE=text/html:<p class="_04xlpA direction-ltr align-center para-style-body" style="line-height: 1.4\; font-family: &quot\;YAD7Q9NigKI 0&quot\;\, _fb_\, auto\;"><span style="font-size:22px\;"><span style="font-size:24px\;"><span style="font-family:times new roman\;"><strong style="caret-color: rgb(0\, 0\, 0)\; color: rgb(0\, 0\, 0)\;"><span style="color:#0000FF\;">PetWellClinic</span> celebrates the Grand Opening of their Parker location.</strong></span></span></span><br />\n&nbsp\;</p>\n\n<p class="_04xlpA direction-ltr align-center para-style-body" style="line-height: 1.4\; font-family: &quot\;YAD7Q9NigKI 0&quot\;\, _fb_\, auto\;"><br />\n<br />\n&nbsp\; &nbsp\; &nbsp\; &nbsp\; &nbsp\; &nbsp\; &nbsp\; &nbsp\; &nbsp\; &nbsp\; &nbsp\; &nbsp\; &nbsp\; &nbsp\; &nbsp\; &nbsp\; &nbsp\; &nbsp\; &nbsp\; &nbsp\; &nbsp\; &nbsp\; &nbsp\; &nbsp\; &nbsp\; &nbsp\; &nbsp\; &nbsp\; &nbsp\;&nbsp\;</p>\n\n<div>&nbsp\;</div>\n
LOCATION:PetWellClinic 17021 Lincoln Ave Unit C Parker\, CO 80134
UID:e.2085.5800
SEQUENCE:3
DTSTAMP:20260420T062008Z
URL:http://parkerchamber.sampleorg.com/events/details/ribbon-cutting-petwellclinic-5800
END:VEVENT

END:VCALENDAR
