BEGIN:VCALENDAR
VERSION:2.0
PRODID:-//ChamberMaster//Event Calendar 2.0//EN
METHOD:PUBLISH
X-PUBLISHED-TTL:P3D
REFRESH-INTERVAL:P3D
CALSCALE:GREGORIAN
BEGIN:VEVENT
DTSTART:20220315T223000Z
DTEND:20220315T233000Z
X-MICROSOFT-CDO-ALLDAYEVENT:FALSE
SUMMARY:Ribbon Cutting - Picture Thiz
DESCRIPTION:Picture Thiz celebrates the Grand Opening of their Parker location.\n\n\n\nToday's moments are tomorrow's memories.\n\nPicture Thiz will capture beautiful beautiful occasions that others forget.
X-ALT-DESC;FMTTYPE=text/html:<p class="_04xlpA direction-ltr align-center para-style-body" style="line-height: 1.4\; font-family: &quot\;YAD7Q9NigKI 0&quot\;\, _fb_\, auto\;"><span style="font-size:22px\;"><span style="font-family:times new roman\;"><strong style="caret-color: rgb(0\, 0\, 0)\; color: rgb(0\, 0\, 0)\;"><a href="https://tabl.club/"><span style="color:#4B0082\;">P</span></a><span style="color:#4B0082\;">icture Thiz celebrates the Grand Opening of their Parker location.</span><br />\n<br />\n<span style="color:#DAA520\;">Today&#39\;s moments are tomorrow&#39\;s memories.</span><br />\n<span style="color:#4B0082\;">Picture Thiz</span><span style="color:#DAA520\;"> will capture beautiful beautiful occasions that others forget.</span></strong></span></span><br />\n&nbsp\;</p>\n
LOCATION:Picture Thiz 17858 E Cottonwood Dr. Parker\, CO 80134
UID:e.2085.5512
SEQUENCE:3
DTSTAMP:20260420T102826Z
URL:http://parkerchamber.sampleorg.com/events/details/ribbon-cutting-picture-thiz-5512
END:VEVENT

END:VCALENDAR
