BEGIN:VCALENDAR
VERSION:2.0
PRODID:-//ChamberMaster//Event Calendar 2.0//EN
METHOD:PUBLISH
X-PUBLISHED-TTL:P3D
REFRESH-INTERVAL:P3D
CALSCALE:GREGORIAN
BEGIN:VEVENT
DTSTART:20221025T223000Z
DTEND:20221025T233000Z
X-MICROSOFT-CDO-ALLDAYEVENT:FALSE
SUMMARY:Ribbon Cutting & Re-Grand Opening - Hand & Stone Massage and Facial Spa
DESCRIPTION:Hand & Stone Massage and Facial Spa\n\ncelebrates a Re-Grand Opening of their Parker location.
X-ALT-DESC;FMTTYPE=text/html:<p class="_04xlpA direction-ltr align-center para-style-body" style="line-height: 1.4\; font-family: &quot\;YAD7Q9NigKI 0&quot\;\, _fb_\, auto\;"><span style="color:#000000\;"><span style="font-size:22px\;"><strong style="font-size: 16px\;"><span style="caret-color: rgb(0\, 0\, 0)\; font-family: Catamaran\;"><span style="font-size:26px\;">Hand &amp\; Stone Massage and Facial Spa</span></span></strong></span></span><br />\n<span style="color:#0000FF\;"><span style="font-size:22px\;"><span style="font-family:times new roman\;"><strong style="caret-color: rgb(0\, 0\, 0)\; color: rgb(0\, 0\, 0)\;">celebrates a Re-Grand Opening of their Parker location.</strong></span></span></span><br />\n&nbsp\; &nbsp\; &nbsp\; &nbsp\; &nbsp\; &nbsp\; &nbsp\; &nbsp\; &nbsp\; &nbsp\; &nbsp\; &nbsp\; &nbsp\; &nbsp\; &nbsp\; &nbsp\; &nbsp\; &nbsp\; &nbsp\; &nbsp\; &nbsp\; &nbsp\; &nbsp\; &nbsp\; &nbsp\; &nbsp\; &nbsp\; &nbsp\; &nbsp\; &nbsp\; &nbsp\; &nbsp\;</p>\n\n<div>&nbsp\;</div>\n
LOCATION:Hand & Stone Massage and Facial Spa 11120 S Twenty Mile Rd\, Ste 151 Parker\, CO 80134
UID:e.2085.5819
SEQUENCE:3
DTSTAMP:20260419T235325Z
URL:http://parkerchamber.sampleorg.com/events/details/ribbon-cutting-re-grand-opening-hand-stone-massage-and-facial-spa-5819
END:VEVENT

END:VCALENDAR
