BEGIN:VCALENDAR
VERSION:2.0
PRODID:-//ChamberMaster//Event Calendar 2.0//EN
METHOD:PUBLISH
X-PUBLISHED-TTL:P3D
REFRESH-INTERVAL:P3D
CALSCALE:GREGORIAN
BEGIN:VEVENT
DTSTART:20220112T233000Z
DTEND:20220113T010000Z
X-MICROSOFT-CDO-ALLDAYEVENT:FALSE
SUMMARY:Ribbon Cutting & Re-Grand Opening - Hearing Associates
DESCRIPTION:Hearing Associated celebrates the Re-Grand Opening of their Parker location.
X-ALT-DESC;FMTTYPE=text/html:<p class="_04xlpA direction-ltr align-center para-style-body" style="line-height: 1.4\; font-family: &quot\;YAD7Q9NigKI 0&quot\;\, _fb_\, auto\;"><span style="font-size:20px\;"><span style="font-family:times new roman\;"><strong style="caret-color: rgb(0\, 0\, 0)\; color: rgb(0\, 0\, 0)\;">Hearing Associated celebrates the Re-Grand Opening of their Parker location.</strong></span></span><br />\n&nbsp\; &nbsp\; &nbsp\; &nbsp\; &nbsp\; &nbsp\; &nbsp\; &nbsp\; &nbsp\; &nbsp\; &nbsp\; &nbsp\; &nbsp\; &nbsp\; &nbsp\; &nbsp\; &nbsp\; &nbsp\; &nbsp\; &nbsp\; &nbsp\; &nbsp\; &nbsp\; &nbsp\; &nbsp\; &nbsp\; &nbsp\; &nbsp\; &nbsp\; &nbsp\; &nbsp\; &nbsp\;</p>\n\n<div>&nbsp\;</div>\n
LOCATION:Hearing Associates 10233 S. Parker Rd.Ste. 202 Parker\, CO 80134
UID:e.2085.5379
SEQUENCE:3
DTSTAMP:20260420T145407Z
URL:http://parkerchamber.sampleorg.com/events/details/ribbon-cutting-re-grand-opening-hearing-associates-5379
END:VEVENT

END:VCALENDAR
