BEGIN:VCALENDAR
VERSION:2.0
PRODID:-//ChamberMaster//Event Calendar 2.0//EN
METHOD:PUBLISH
X-PUBLISHED-TTL:P3D
REFRESH-INTERVAL:P3D
CALSCALE:GREGORIAN
BEGIN:VEVENT
DTSTART:20220714T223000Z
DTEND:20220715T000000Z
X-MICROSOFT-CDO-ALLDAYEVENT:FALSE
SUMMARY:Ribbon Cutting - Stacey James Institute
DESCRIPTION:Stacey James Institute celebrates the Re-Grand Opening of their Parker location. There will be hors d' oeuvres and refreshments for guests to enjoy the celebration.\n\n\n\nThe Dream Starts Here! Come share in the celebration!\n\n\nStacey James Institute was built as a high end salon & spa instructional\n\nfacility to provide students the ultimate experience while learning their\n\nnew career.
X-ALT-DESC;FMTTYPE=text/html:<p class="_04xlpA direction-ltr align-center para-style-body" style="line-height: 1.4\; font-family: &quot\;YAD7Q9NigKI 0&quot\;\, _fb_\, auto\;"><span style="font-size:22px\;"><span style="font-size:24px\;"><span style="font-family:times new roman\;"><strong style="caret-color: rgb(0\, 0\, 0)\; color: rgb(0\, 0\, 0)\;"><span style="color:#008080\;">Stacey James Institute</span> celebrates the Re-Grand Opening of their Parker location. There will be&nbsp\;</strong></span></span></span><strong><span style="font-size:24px\;"><span style="font-family:times new roman\;"><span style="caret-color: rgb(0\, 0\, 0)\; color: rgb(0\, 0\, 0)\;">hors d&rsquo\; oeuvres and refreshments for guests to enjoy the celebration.</span></span></span></strong><br />\n<br />\n<span class="et_pb_fullwidth_header_subhead" style="box-sizing: border-box\; margin: 0px\; padding: 0px\; border: 0px\; outline: 0px\; font-size: 24px\; vertical-align: baseline\; display: block\; font-family: &quot\;Open Sans&quot\;\, Arial\, sans-serif\; color: rgb(0\, 0\, 0) !important\;">The Dream Starts Here! Come share in the&nbsp\;celebration!</span></p>\n\n<div class="et_pb_header_content_wrapper" style="box-sizing: border-box\; margin: 0px\; padding: 0px\; border: 0px\; outline: 0px\; font-size: 18px\; vertical-align: baseline\; font-family: &quot\;Open Sans&quot\;\, Arial\, sans-serif\; color: rgb(0\, 0\, 0) !important\;">\n<p style="box-sizing: border-box\; margin: 0px\; padding: 0px\; border: 0px\; outline: 0px\; vertical-align: baseline\; overflow-wrap: break-word\;"><span style="color:#008080\;">Stacey James Institute</span> was built as a high end salon &amp\; spa instructional<br style="box-sizing: border-box\;" />\nfacility to provide students the ultimate experience while learning their<br style="box-sizing: border-box\;" />\nnew career.</p>\n</div>\n\n<p class="_04xlpA direction-ltr align-center para-style-body" style="line-height: 1.4\; font-family: &quot\;YAD7Q9NigKI 0&quot\;\, _fb_\, auto\;"><br />\n<br />\n&nbsp\; &nbsp\; &nbsp\; &nbsp\; &nbsp\; &nbsp\; &nbsp\; &nbsp\; &nbsp\; &nbsp\; &nbsp\; &nbsp\; &nbsp\; &nbsp\; &nbsp\; &nbsp\; &nbsp\; &nbsp\; &nbsp\; &nbsp\; &nbsp\; &nbsp\; &nbsp\; &nbsp\; &nbsp\; &nbsp\; &nbsp\; &nbsp\; &nbsp\;&nbsp\;</p>\n\n<div>&nbsp\;</div>\n
LOCATION:Stacey James Institute 16534 Keystone Blvd. Parker\, CO 80134
UID:e.2085.5518
SEQUENCE:3
DTSTAMP:20260420T043548Z
URL:http://parkerchamber.sampleorg.com/events/details/ribbon-cutting-stacey-james-institute-5518
END:VEVENT

END:VCALENDAR
