BEGIN:VCALENDAR
VERSION:2.0
PRODID:-//ChamberMaster//Event Calendar 2.0//EN
METHOD:PUBLISH
X-PUBLISHED-TTL:P3D
REFRESH-INTERVAL:P3D
CALSCALE:GREGORIAN
BEGIN:VEVENT
DTSTART:20220928T223000Z
DTEND:20220928T233000Z
X-MICROSOFT-CDO-ALLDAYEVENT:FALSE
SUMMARY:Ribbon Cutting - The Swing Bays
DESCRIPTION:The Swing Bays is celebrating the opening of their new location with a Ribbon Cutting\n\n\n\nThey are your new golf home and Colorado's premier training facility where indoor golf lessons\, fitness\, club fitting\, equipment repair\, social events and more come together.
X-ALT-DESC;FMTTYPE=text/html:<p class="_04xlpA direction-ltr align-center para-style-body" style="line-height: 1.4\;"><span style="font-size:20px\;"><span style="font-family:tahoma\;"><strong><span style="color:#FF0000\;"><span style="caret-color: rgb(0\, 0\, 0)\;">The Swing Bays&nbsp\;is celebrating&nbsp\;the opening of their new location with a Ribbon Cutting</span></span></strong><br />\n<br />\n<strong><span style="color:#000000\;">They are your new golf home&nbsp\;and&nbsp\;Colorado&rsquo\;s premier training facility where indoor golf lessons\, fitness\, club fitting\, equipment repair\, social events and more come together.</span></strong></span></span></p>\n\n<h1 style="box-sizing: inherit\; font-size: 50px\; margin: 0px 0px 0.75em\; clear: both\; color: rgb(255\, 255\, 255)\; font-family: Montserrat\, Arial\, Helvetica\, sans-serif\; text-align: center\;"><br />\n<br />\n<font face="YAD7Q9NigKI 0\, _fb_\, auto">&nbsp\; &nbsp\; &nbsp\; &nbsp\; &nbsp\; &nbsp\; &nbsp\; &nbsp\; &nbsp\; &nbsp\; &nbsp\; &nbsp\; &nbsp\; &nbsp\; &nbsp\; &nbsp\; &nbsp\; &nbsp\; &nbsp\; &nbsp\; &nbsp\; &nbsp\; &nbsp\; &nbsp\; &nbsp\; &nbsp\; &nbsp\; &nbsp\; &nbsp\;&nbsp\;</font></h1>\n\n<div>&nbsp\;</div>\n
LOCATION:11183 South Parker Road\, Unit A Parker\, CO 80134
UID:e.2085.5818
SEQUENCE:3
DTSTAMP:20260420T011614Z
URL:http://parkerchamber.sampleorg.com/events/details/ribbon-cutting-the-swing-bays-5818
END:VEVENT

END:VCALENDAR
