BEGIN:VCALENDAR
VERSION:2.0
PRODID:-//ChamberMaster//Event Calendar 2.0//EN
METHOD:PUBLISH
X-PUBLISHED-TTL:P3D
REFRESH-INTERVAL:P3D
CALSCALE:GREGORIAN
BEGIN:VEVENT
DTSTART:20220303T233000Z
DTEND:20220304T010000Z
X-MICROSOFT-CDO-ALLDAYEVENT:FALSE
SUMMARY:Ribbon Cutting - Timeless Aesthetics Beauty Lounge
DESCRIPTION:Timeless Aesthetics celebrates the Grand Opening of their Parker location.\n\n\n\nAs the proud owner of Timeless Aesthetics Beauty Lounge\, Paige Simpson enjoys helping every client achieve the outcome they desire. As the industry is ever-changing\, Paige always stays current  in advanced MedSpa treatments.
X-ALT-DESC;FMTTYPE=text/html:<p class="_04xlpA direction-ltr align-center para-style-body" style="line-height: 1.4\; font-family: &quot\;YAD7Q9NigKI 0&quot\;\, _fb_\, auto\;"><span style="font-size:22px\;"><span style="font-family:times new roman\;"><strong style="caret-color: rgb(0\, 0\, 0)\; color: rgb(0\, 0\, 0)\;"><a href="https://tabl.club/"><span style="color:#ff6666\;">Timeless Aesthetics</span></a> celebrates the Grand Opening of their Parker location.</strong></span><br />\n<br />\n<strong><span style="color:#ff6666\;">As the proud owner of Timeless Aesthetics Beauty Lounge\, Paige Simpson enjoys helping every client achieve the outcome they desire. As the industry is ever-changing\, Paige always stays current &nbsp\;in advanced MedSpa treatments. &nbsp\; </span></strong><span style="color:#EE82EE\;">&nbsp\; &nbsp\;</span></span><br />\n&nbsp\; &nbsp\; &nbsp\; &nbsp\; &nbsp\; &nbsp\; &nbsp\; &nbsp\; &nbsp\; &nbsp\; &nbsp\; &nbsp\; &nbsp\; &nbsp\; &nbsp\; &nbsp\; &nbsp\; &nbsp\; &nbsp\; &nbsp\; &nbsp\; &nbsp\; &nbsp\; &nbsp\; &nbsp\; &nbsp\; &nbsp\; &nbsp\; &nbsp\;&nbsp\;</p>\n\n<div>&nbsp\;</div>\n
LOCATION:Timeless Aesthetics 10841 S. Crossroads Dr. Ste. 18 Parker\, CO 80134
UID:e.2085.5403
SEQUENCE:3
DTSTAMP:20260420T102826Z
URL:http://parkerchamber.sampleorg.com/events/details/ribbon-cutting-timeless-aesthetics-beauty-lounge-5403
END:VEVENT

END:VCALENDAR
