BEGIN:VCALENDAR
VERSION:2.0
PRODID:-//ChamberMaster//Event Calendar 2.0//EN
METHOD:PUBLISH
X-PUBLISHED-TTL:P3D
REFRESH-INTERVAL:P3D
CALSCALE:GREGORIAN
BEGIN:VEVENT
DTSTART:20221004T223000Z
DTEND:20221004T233000Z
X-MICROSOFT-CDO-ALLDAYEVENT:FALSE
SUMMARY:Ribbon Cutting - Tuff Shed
DESCRIPTION:Tuff Shed is celebrating the re-grand opening of their Parker location.
X-ALT-DESC;FMTTYPE=text/html:<p class="_04xlpA direction-ltr align-center para-style-body" style="line-height: 1.4\;"><strong><font color="#000000" face="times new roman"><span style="caret-color: rgb(0\, 0\, 0)\; font-size: 20px\;">Tuff Shed is celebrating&nbsp\;the re-grand opening of their&nbsp\;Parker location.</span></font></strong><br />\n<font face="YAD7Q9NigKI 0\, _fb_\, auto">&nbsp\; &nbsp\; &nbsp\; &nbsp\; &nbsp\; &nbsp\; &nbsp\; &nbsp\; &nbsp\; &nbsp\; &nbsp\; &nbsp\; &nbsp\; &nbsp\; &nbsp\; &nbsp\; &nbsp\; &nbsp\; &nbsp\; &nbsp\; &nbsp\; &nbsp\; &nbsp\; &nbsp\; &nbsp\; &nbsp\; &nbsp\; &nbsp\; &nbsp\;&nbsp\;</font></p>\n\n<div>&nbsp\;</div>\n
LOCATION:19850 Cockriel Drive Parker\, CO 80134
UID:e.2085.5812
SEQUENCE:3
DTSTAMP:20260419T234955Z
URL:http://parkerchamber.sampleorg.com/events/details/ribbon-cutting-tuff-shed-5812
END:VEVENT

END:VCALENDAR
