BEGIN:VCALENDAR
VERSION:2.0
PRODID:-//ChamberMaster//Event Calendar 2.0//EN
METHOD:PUBLISH
X-PUBLISHED-TTL:P3D
REFRESH-INTERVAL:P3D
CALSCALE:GREGORIAN
BEGIN:VEVENT
DTSTART:20230309T233000Z
DTEND:20230310T003000Z
X-MICROSOFT-CDO-ALLDAYEVENT:FALSE
SUMMARY:Ribbon Cutting - Wilks Real Estate
DESCRIPTION:Wilks Real Estate\n\nJoin us as we celebrate the grand opening of the new offices of Wilks Real Estate with a milestone ribbon-cutting.  Lots of food\, drink\, and fun. Giveaways\, too!
X-ALT-DESC;FMTTYPE=text/html:<p class="_04xlpA direction-ltr align-center para-style-body" style="line-height: 1.4\;"><span color:="" style="font-family: " yad7q9nigki=""><span style="font-size:22px\;"><strong style="font-size: 16px\;"><span style="caret-color: rgb(0\, 0\, 0)\; font-family: Catamaran\;"><span style="font-size:26px\;">Wilks Real Estate</span></span></strong></span></span></p>\n\n<p class="_04xlpA direction-ltr align-center para-style-body" style="line-height: 1.4\;"><strong><font color="#000000" face="times new roman"><span style="caret-color: rgb(0\, 0\, 0)\; font-size: 22px\;">Join us as we celebrate the grand opening of the&nbsp\;new offices of Wilks Real Estate with a milestone ribbon-cutting.&nbsp\; Lots of food\, drink\, and fun. Giveaways\, too!</span></font></strong><br />\n<br />\n&nbsp\;</p>\n\n<p class="_04xlpA direction-ltr align-center para-style-body" style="line-height: 1.4\;"><br />\n<font face="YAD7Q9NigKI 0\, _fb_\, auto">&nbsp\; &nbsp\; &nbsp\; &nbsp\; &nbsp\; &nbsp\; &nbsp\; &nbsp\; &nbsp\; &nbsp\; &nbsp\; &nbsp\; &nbsp\; &nbsp\; &nbsp\; &nbsp\; &nbsp\; &nbsp\; &nbsp\; &nbsp\; &nbsp\; &nbsp\; &nbsp\; &nbsp\; &nbsp\; &nbsp\; &nbsp\; &nbsp\; &nbsp\; &nbsp\; &nbsp\; &nbsp\;</font></p>\n\n<div>&nbsp\;</div>\n
LOCATION:Wilks Real Estate 19590 E Mainstreet\, Suite 100\, Unit 5 Parker\, CO 80138
UID:e.2085.5919
SEQUENCE:3
DTSTAMP:20260419T160621Z
URL:http://parkerchamber.sampleorg.com/events/details/ribbon-cutting-wilks-real-estate-5919
END:VEVENT

END:VCALENDAR
