BEGIN:VCALENDAR
VERSION:2.0
PRODID:-//ChamberMaster//Event Calendar 2.0//EN
METHOD:PUBLISH
X-PUBLISHED-TTL:P3D
REFRESH-INTERVAL:P3D
CALSCALE:GREGORIAN
BEGIN:VEVENT
DTSTART:20230511T170000Z
DTEND:20230511T180000Z
X-MICROSOFT-CDO-ALLDAYEVENT:FALSE
SUMMARY:Ribbon Cutting - ZAO ASIAN CAFE
DESCRIPTION:Zao Asian Cafe\n\nfresh. simple. modern asian cafe. eat good and feel good\n\nCelebrating their Grand Opening with a Ribbon Cutting.
X-ALT-DESC;FMTTYPE=text/html:<p class="_04xlpA direction-ltr align-center para-style-body" style="line-height: 1.4\;"><span color:="" yad7q9nigki=""><span style="font-size:22px\;"><strong style="font-size: 16px\;"><span style="caret-color: rgb(0\, 0\, 0)\; font-family: Catamaran\;"><span style="font-size:26px\;">Zao Asian Cafe</span></span></strong></span></span><br />\n<span style="font-size:16px\;"><strong><span style="color:#99ff00\;"><span style="caret-color: rgb(34\, 34\, 34)\; font-family: DDG_ProximaNova\, DDG_ProximaNova_UI_0\, DDG_ProximaNova_UI_1\, DDG_ProximaNova_UI_2\, DDG_ProximaNova_UI_3\, DDG_ProximaNova_UI_4\, DDG_ProximaNova_UI_5\, DDG_ProximaNova_UI_6\, &quot\;Proxima Nova&quot\;\, &quot\;Helvetica Neue&quot\;\, Helvetica\, &quot\;Segoe UI&quot\;\, &quot\;Nimbus Sans L&quot\;\, &quot\;Liberation Sans&quot\;\, &quot\;Open Sans&quot\;\, FreeSans\, Arial\, sans-serif\;">fresh. simple. modern asian cafe. eat good and feel good</span></span></strong></span></p>\n\n<p class="_04xlpA direction-ltr align-center para-style-body" style="line-height: 1.4\;"><strong><font color="#000000" face="times new roman"><span style="caret-color: rgb(0\, 0\, 0)\; font-size: 22px\;">Celebrating their Grand Opening with a Ribbon Cutting.</span></font></strong><br />\n<br />\n&nbsp\;</p>\n\n<p class="_04xlpA direction-ltr align-center para-style-body" style="line-height: 1.4\;"><br />\n<font face="YAD7Q9NigKI 0\, _fb_\, auto">&nbsp\; &nbsp\; &nbsp\; &nbsp\; &nbsp\; &nbsp\; &nbsp\; &nbsp\; &nbsp\; &nbsp\; &nbsp\; &nbsp\; &nbsp\; &nbsp\; &nbsp\; &nbsp\; &nbsp\; &nbsp\; &nbsp\; &nbsp\; &nbsp\; &nbsp\; &nbsp\; &nbsp\; &nbsp\; &nbsp\; &nbsp\; &nbsp\; &nbsp\; &nbsp\; &nbsp\; &nbsp\;</font></p>\n\n<div>&nbsp\;</div>\n
LOCATION:Zao Asian Cafe 18374 Cottonwood Dr\, Parker\, CO 80138
UID:e.2085.6212
SEQUENCE:3
DTSTAMP:20260419T125629Z
URL:http://parkerchamber.sampleorg.com/events/details/ribbon-cutting-zao-asian-cafe-6212
END:VEVENT

END:VCALENDAR
