BEGIN:VCALENDAR
VERSION:2.0
PRODID:-//ChamberMaster//Event Calendar 2.0//EN
METHOD:PUBLISH
X-PUBLISHED-TTL:P3D
REFRESH-INTERVAL:P3D
CALSCALE:GREGORIAN
BEGIN:VEVENT
DTSTART:20221008T170000Z
DTEND:20221008T190000Z
X-MICROSOFT-CDO-ALLDAYEVENT:FALSE
SUMMARY:Santa\, Mrs. Claus & Elves Gathering (Public)
DESCRIPTION:Join dozens of Santas and other holiday characters as they descend on Parker for their annual gathering!\n\nLots of fun at this incredible community event. Play games\, take photos and stroll down Mainstreet.\n\nAll proceeds go to Rocky Mountain Santa's Convoy of Toys.
X-ALT-DESC;FMTTYPE=text/html:<span style="color:#B22222\;"><span style="font-size:24px\;"><span style="font-family:comic sans ms\;"><strong>Join dozens of Santas and other holiday characters as they descend on Parker for their annual gathering!<br />\nLots of fun at this incredible community event.&nbsp\;Play games\, take photos and stroll down Mainstreet.<br />\nAll proceeds go to Rocky Mountain Santa&#39\;s Convoy of Toys.</strong></span></span></span><br />\n&nbsp\;
LOCATION:On Mainstreet in Downtown Parker
UID:e.2085.5820
SEQUENCE:3
DTSTAMP:20260420T011531Z
URL:http://parkerchamber.sampleorg.com/events/details/santa-mrs-claus-elves-gathering-public-5820
END:VEVENT

END:VCALENDAR
