BEGIN:VCALENDAR
VERSION:2.0
PRODID:-//ChamberMaster//Event Calendar 2.0//EN
METHOD:PUBLISH
X-PUBLISHED-TTL:P3D
REFRESH-INTERVAL:P3D
CALSCALE:GREGORIAN
BEGIN:VEVENT
DTSTART:20220505T190000Z
DTEND:20220505T210000Z
X-MICROSOFT-CDO-ALLDAYEVENT:FALSE
SUMMARY:SEMINAR: "Be a Better Boss (2022 Edition!)
DESCRIPTION:Join us for the next seminar in our\n\nSTRONGER BUSINESS SERIES!\n\n\n\n"Be a Better Boss (2022 Edition!)"\n\nwith Alecia Huck\n\n\n\nEven on good days\, managing people can feel tricky.  It's not always easy to know when to cut people some slack and when to hold a firm line.  Especially in a tight labor market\, it's critical to not just hire great people but to manage them well.\n\n \n\nAlecia Huck is a management consultant who specializes in helping the leadership teams of fast-growing companies.  She's prepared a special session for Parker Chamber of Commerce members. \n\n\n\nThis is no philosophy class on leadership!  Alecia will share the two critical and practical skills you need to solve most of your management headaches in 2022.  You will learn:\n\n	A simple way to know when to confront something and what to let slide\n	How to have a hard conversation that changes employee behavior without damaging your relationship\n	A simple\, easy to remember model for accountability that you'll feel comfortable using\n	How to build real loyalty by celebrating the right things in the right way\n	How to make celebration part of your work and customer culture to boost morale and your bottom line\n\nForbes Magazine says\, "People don't leave bad jobs\, they leave bad bosses."\n\n\n\nWhether you're a business owner or manager\, come learn how to be a great boss in 2022.  Bring your hard questions\, a pen\, and get excited.    This is going to be good.\n\n\n\n\n\nAlecia Huck is the founder of MAVERICK & Company\, a management consultant\, sought-after speaker\, and author. She specializes in developing the leadership teams of fast-growing companies\, helping them spend less time fighting fires and more time building what matters.  Follow her on LinkedIn for short videos\, smart articles\, and more.
X-ALT-DESC;FMTTYPE=text/html:<span style="font-size:14px\;"><span style="font-size:18px\;"><em>Join us for the next seminar in our<br />\n<strong>STRONGER BUSINESS SERIES!</strong></em></span><br />\n<br />\n<strong><span style="font-size:24px\;">&quot\;Be a Better Boss (2022 Edition!)&quot\;</span></strong><br />\nwith Alecia Huck<br />\n<br />\nEven on good days\, managing people can feel tricky.&nbsp\; It&rsquo\;s not always easy to know when to cut people some slack and when to hold a firm line.&nbsp\; Especially in a tight labor market\, it&rsquo\;s critical to not just hire great people but to manage them well.<br />\n&nbsp\;<br />\n<a href="http://www.maverickandcompany.com"><strong>Alecia Huck</strong></a> is a management consultant who specializes in helping the leadership teams of fast-growing companies.&nbsp\; She&rsquo\;s prepared a special session for Parker Chamber of Commerce members.&nbsp\;<br />\n<br />\nThis is no philosophy class on leadership!&nbsp\; Alecia will share the two critical and practical skills you need to solve most of your management headaches in 2022.&nbsp\; You will learn:</span>\n<ul>\n	<li style="font-size:12pt\;font-family:Calibri\, sans-serif\;color:rgb(0\, 0\, 0)\;"><em><span style="font-size:14px\;">A simple way to know when to confront something and what to let slide</span></em></li>\n	<li style="font-size:12pt\;font-family:Calibri\, sans-serif\;color:rgb(0\, 0\, 0)\;"><em><span style="font-size:14px\;">How to have a hard conversation that changes employee behavior without damaging your relationship</span></em></li>\n	<li style="font-size:12pt\;font-family:Calibri\, sans-serif\;color:rgb(0\, 0\, 0)\;"><em><span style="font-size:14px\;">A simple\, easy to remember model for accountability that you&rsquo\;ll feel comfortable using</span></em></li>\n	<li style="font-size:12pt\;font-family:Calibri\, sans-serif\;color:rgb(0\, 0\, 0)\;"><em><span style="font-size:14px\;">How to build real loyalty by celebrating the right things in the right way</span></em></li>\n	<li style="font-size:12pt\;font-family:Calibri\, sans-serif\;color:rgb(0\, 0\, 0)\;"><em><span style="font-size:14px\;">How to make celebration part of your work and customer culture to boost morale and your bottom line</span></em></li>\n</ul>\n<span style="font-size:14px\;">Forbes Magazine says\, <em><a href="https://www.forbes.com/sites/jackkelly/2019/11/22/people-dont-leave-bad-jobs-they-leave-bad-bosses-heres-how-to-be-a-better-manager-to-maintain-and-motivate-your-team/?sh=4cd61e3522b9">&quot\;People don&#39\;t leave bad jobs\, they leave bad bosses.&quot\;</a></em><br />\n<br />\nWhether you&#39\;re a business owner or manager\, come learn how to be a great boss in 2022.&nbsp\; Bring your hard questions\, a pen\, and get excited.&nbsp\;&nbsp\;&nbsp\; <strong><em>This is going to be good.</em></strong></span><br />\n<br />\n<br />\n<span style="background-image:initial\;background-position:initial\;background-size:initial\;background-repeat:initial\;background-attachment:initial\;background-origin:initial\;background-clip:initial\;"><span style="color:#222222\;"><span style="font-family:georgia\,serif\;"><strong>Alecia Huck</strong> is the founder of MAVERICK &amp\; Company\, a management consultant\, sought-after speaker\, and author.&nbsp\;She specializes in developing the leadership teams of fast-growing companies\, helping them spend less time fighting fires and more time building what matters.&nbsp\;&nbsp\;</span></span></span><a href="https://www.linkedin.com/in/aleciahuckmaverick" style="color:rgb(5\, 99\, 193)\;" target="_blank"><span style="background-image:initial\;background-position:initial\;background-size:initial\;background-repeat:initial\;background-attachment:initial\;background-origin:initial\;background-clip:initial\;"><span style="color:#1155cc\;"><span style="font-family:georgia\,serif\;">Follow her on LinkedIn</span></span></span></a><span style="background-image:initial\;background-position:initial\;background-size:initial\;background-repeat:initial\;background-attachment:initial\;background-origin:initial\;background-clip:initial\;"><span style="color:#222222\;"><span style="font-family:georgia\,serif\;">&nbsp\;for short videos\, smart articles\, and more.</span></span></span><br />\n<br />\n&nbsp\;
LOCATION:Parker Library 20105 E Mainstreet\, Parker\, CO 80138 Event Hall A on the 2nd Floor
UID:e.2085.5514
SEQUENCE:3
DTSTAMP:20260420T072850Z
URL:http://parkerchamber.sampleorg.com/events/details/seminar-be-a-better-boss-2022-edition-5514
END:VEVENT

END:VCALENDAR
