BEGIN:VCALENDAR
VERSION:2.0
PRODID:-//ChamberMaster//Event Calendar 2.0//EN
METHOD:PUBLISH
X-PUBLISHED-TTL:P3D
REFRESH-INTERVAL:P3D
CALSCALE:GREGORIAN
BEGIN:VEVENT
DTSTART:20220922T190000Z
DTEND:20220922T210000Z
X-MICROSOFT-CDO-ALLDAYEVENT:FALSE
SUMMARY:SEMINAR - "Compete on Awesome\, Not Price" with Susan Frew - STRONGER BUSINESS SERIES
DESCRIPTION:The Parker Chamber of Commerce is excited to offer its STRONGER BUSINESS SERIES to help build a more resilient and successful local business community. You have goals for your business\, and we're here to help inspire you toward success!\n\n\n\nWe are proud to bring the award-winning speaker and trainer Susan Frew to Parker to present her interactive workshop\, "Compete on Awesome\, Not Price." \n\n\n\nThis investment of two hours will help you make marketing decisions from a place of power and confidence. If you've ever worried about your ability to compete with your business rivals\, you'll love Susan's plan to help you dominate your market. You'll leave the seminar with a plan for making your business stand out\, using your uniqueness and rooted in customer connection and value.\n\n\n\nCome prepared for a fun workshop. You'll leave with smart\, actionable steps you can put into play with your business immediately.\n\n\n\nThis event is sponsored in part by Arapahoe Community College.\n\n\n\nSusan Frew is a TEDx Speaker\, plumbing company owner\, and coach of 18 different trades!  She loves sharing her research\, insight\, and inspiration to help you walk away with concrete ideas on how to WOW your customers and set your company apart from its competition. Learn more at SusanFrewSpeaks.com
X-ALT-DESC;FMTTYPE=text/html:<span style="font-size:16px\;">The Parker Chamber of Commerce is excited to offer its <span style="color:#800000\;"><strong>STRONGER BUSINESS SERIES</strong></span> to help build a more resilient and successful local business community. You have goals for your business\, and we&#39\;re here to help inspire you toward success!<br />\n<br />\nWe are proud to bring the award-winning speaker and trainer <a href="https://www.susanfrewspeaks.com/speaking/"><strong>Susan Frew</strong></a> to Parker to present her interactive workshop\, <strong>&quot\;Compete on Awesome\, Not Price.&quot\;</strong>&nbsp\;<br />\n<br />\nThis investment of two hours will help you make marketing decisions from a place of power and confidence. If you&#39\;ve ever worried about your ability to compete with your business rivals\, you&#39\;ll love Susan&#39\;s plan to help you dominate your market. You&#39\;ll leave the seminar with a plan for making your business stand out\, using your uniqueness and rooted in customer connection and value.<br />\n<br />\n<strong>Come prepared for a fun workshop.</strong> You&#39\;ll leave with smart\, actionable steps you can put into play with your business immediately.<br />\n<br />\n<a href="https://www.arapahoe.edu/"><strong>This event is sponsored in part by Arapahoe Community College.</strong></a><br />\n<br />\n<em>Susan Frew is a <a href="https://www.ted.com/talks/susan_frew_the_runaway_train_of_the_skilled_trades_crisis_sep_2017?utm_campaign=tedspread&amp\;utm_medium=referral&amp\;utm_source=tedcomshare">TEDx Speaker</a>\, plumbing company owner\, and coach of 18 different trades!&nbsp\; She loves sharing her research\, insight\, and inspiration to help you walk away with concrete ideas on how to WOW your customers and set your company apart from its competition. Learn more at <a href="http://www.susanfrewspeaks.com">SusanFrewSpeaks.com</a></em></span>\n<p dir="ltr" style="box-sizing: border-box\; color: rgb(27\, 36\, 50)\; font-family: &quot\;Tenor Sans&quot\;\, sans-serif\; font-size: 16.4859px\;">&nbsp\;</p>\n
LOCATION:Event Room Parker Schoolhouse at Mainstreet 19650 Mainstreet\, Parker CO 80138
UID:e.2085.5809
SEQUENCE:3
DTSTAMP:20260420T011719Z
URL:http://parkerchamber.sampleorg.com/events/details/seminar-compete-on-awesome-not-price-with-susan-frew-stronger-business-series-5809
END:VEVENT

END:VCALENDAR
