BEGIN:VCALENDAR
VERSION:2.0
PRODID:-//ChamberMaster//Event Calendar 2.0//EN
METHOD:PUBLISH
X-PUBLISHED-TTL:P3D
REFRESH-INTERVAL:P3D
CALSCALE:GREGORIAN
BEGIN:VEVENT
DTSTART:20230420T143000Z
DTEND:20230420T163000Z
X-MICROSOFT-CDO-ALLDAYEVENT:FALSE
SUMMARY:SPEED NETWORKING EVENT! Sponsored by Christina Piazza\, Assured Partners
DESCRIPTION:100 participants standing in two concentric circles.  You have three minutes to introduce your business to the person in front of you and learn about their business. The whistle blows\, and everyone moves to the next person on your right.  In about an hour\, you meet half the room\, making connections that will help grow your business.\n\n\n\nIt's the most fun chamber networking event of the year!  Wear comfortable shoes and bring your business cards!  Attendance is limited to 100 participants. \n\n\n\nEvent sponsored by Christina Piazza\, Assured Partners\n\nBreakfast provided by Chick-fil-A\n\n\n\nThis event is for Parker Chamber of Commerce members only\, please.  \n\n\n\nTickets are non-refundable except in the event of severe weather. Please sign up for our text notification service by texting the word PARKER to 844-963-0889. If we cancel for weather\, we will notify using the text service.
X-ALT-DESC;FMTTYPE=text/html:<span style="font-size:16px\;">100 participants standing in two concentric circles.&nbsp\; You have three minutes to introduce your business to the person in front of you and learn about their business. The whistle blows\, and everyone moves to the next person on your right.&nbsp\; In about an hour\, you meet half the room\, making connections that will help grow your business.<br />\n<br />\nIt&#39\;s the most fun chamber networking event of the year!&nbsp\; Wear comfortable shoes and bring your business cards!&nbsp\; Attendance is limited to 100 participants.&nbsp\;<br />\n<br />\n<strong><em><span style="color:#800080\;"><span style="font-size:22px\;">Event sponsored by Christina Piazza\,&nbsp\;</span></span><u><span style="font-size:22px\;"><a href="http://www.assuredpartners.com"><span style="color:#800080\;">Assured Partners</span></a></span></u><br />\n<span style="color:#800080\;"><span style="font-size:22px\;">Breakfast provided by Chick-fil-A</span></span></em></strong><br />\n<br />\n<em><strong>This event is for Parker Chamber of Commerce members only\, please.&nbsp\; </strong><br />\n<br />\nTickets are non-refundable except in the event of severe weather. Please sign up for our text notification service by texting the word PARKER to 844-963-0889. If we cancel for weather\, we will notify using the text service.</em></span>
LOCATION:Parker Fieldhouse 18700 Plaza Dr\, Parker\, CO 80134
UID:e.2085.5803
SEQUENCE:3
DTSTAMP:20260419T143314Z
URL:http://parkerchamber.sampleorg.com/events/details/speed-networking-event-sponsored-by-christina-piazza-assured-partners-5803
END:VEVENT

END:VCALENDAR
