BEGIN:VCALENDAR
VERSION:2.0
PRODID:-//ChamberMaster//Event Calendar 2.0//EN
METHOD:PUBLISH
X-PUBLISHED-TTL:P3D
REFRESH-INTERVAL:P3D
CALSCALE:GREGORIAN
BEGIN:VEVENT
DTSTART;VALUE=DATE:20220512
DTEND;VALUE=DATE:20220513
TRANSP:TRANSPARENT
X-MICROSOFT-CDO-ALLDAYEVENT:TRUE
SUMMARY:"State of the Town" (Town Event)
DESCRIPTION:Mayor Jeff Toborg will share all the successes the Town of Parker had this past year and vision for 2022 and beyond. \n\n\n\nPatty Silverstein with Development Research Partners will give a 2022 economic forecast for the Metro Denver region that will include a look at current and projected growth trends at the national\, state\, regional\, and local levels\, employment and industry trends\, population growth and consumer activity\, residential and commercial real estate markets and how the COVID-19 pandemic caused many changes in our economic system over the past two years. \n\n\n\nThe Rotary Club of Parker will present the 2022 Parker Impact Awards. These awards are given annually to recipients who have devoted countless hours of compassionate and loving care to our community.   \n\n\n\nThe Parker Chamber of Commerce is a supporting sponsor of this Town of Parker event.
X-ALT-DESC;FMTTYPE=text/html:<span style="font-size:18px\;"><span style="caret-color: rgb(0\, 0\, 0)\; color: rgb(0\, 0\, 0)\; font-family: Calibri\, sans-serif\; text-size-adjust: auto\;">Mayor Jeff Toborg will share all the successes the Town of Parker had this past year and vision for 2022 and beyond.&nbsp\;<br />\n<br />\nPatty Silverstein with Development Research Partners will give a 2022 economic forecast for the Metro Denver region that will include a look at current and projected growth trends at the national\, state\, regional\, and local levels\, employment and industry trends\, population growth and consumer activity\, residential and commercial real estate markets and how the COVID-19 pandemic caused many changes in our economic system over the past two years.&nbsp\;<br />\n<br />\nThe Rotary Club of Parker will present the 2022 Parker Impact Awards. These awards are given annually to recipients who have devoted countless hours of compassionate and loving care to our community.&nbsp\; &nbsp\;<br />\n<br />\nThe Parker Chamber of Commerce is a supporting sponsor of this Town of Parker event.</span></span>
LOCATION:PACE CENTER 20000 Pikes Peak Ave. Parker CO 80138
UID:e.2085.5504
SEQUENCE:3
DTSTAMP:20260420T073409Z
URL:http://parkerchamber.sampleorg.com/events/details/state-of-the-town-town-event-5504
END:VEVENT

END:VCALENDAR
