BEGIN:VCALENDAR
VERSION:2.0
PRODID:-//ChamberMaster//Event Calendar 2.0//EN
METHOD:PUBLISH
X-PUBLISHED-TTL:P3D
REFRESH-INTERVAL:P3D
CALSCALE:GREGORIAN
BEGIN:VEVENT
DTSTART:20230523T133000Z
DTEND:20230523T153000Z
X-MICROSOFT-CDO-ALLDAYEVENT:FALSE
SUMMARY:"State of the Town" (Town Event)
DESCRIPTION:The annual "State of the Town" event is presented by Town Council and the Parker Rotary Club.\n\n\n\nThe Rotary Club will present the 2023 Parker Impact Awards. These awards are given annually to recipients who have devoted countless hours of compassionate and loving care to our community.   \n\n\n\nThe Parker Area Chamber of Commerce Foundation is a sponsor of this Town of Parker event.
X-ALT-DESC;FMTTYPE=text/html:<span style="font-size:18px\;"><span style="caret-color: rgb(0\, 0\, 0)\; color: rgb(0\, 0\, 0)\; font-family: Calibri\, sans-serif\; text-size-adjust: auto\;">The annual &quot\;State of the Town&quot\; event is presented by Town Council and the Parker Rotary Club.<br />\n<br />\nThe Rotary Club will present the 2023 Parker Impact Awards. These awards are given annually to recipients who have devoted countless hours of compassionate and loving care to our community.&nbsp\; &nbsp\;<br />\n<br />\nThe Parker Area Chamber of Commerce Foundation is a sponsor of this Town of Parker event.</span></span>
LOCATION:PACE CENTER 20000 Pikes Peak Ave. Parker CO 80138
UID:e.2085.5917
SEQUENCE:3
DTSTAMP:20260419T125626Z
URL:http://parkerchamber.sampleorg.com/events/details/state-of-the-town-town-event-5917
END:VEVENT

END:VCALENDAR
