BEGIN:VCALENDAR
VERSION:2.0
PRODID:-//ChamberMaster//Event Calendar 2.0//EN
METHOD:PUBLISH
X-PUBLISHED-TTL:P3D
REFRESH-INTERVAL:P3D
CALSCALE:GREGORIAN
BEGIN:VEVENT
DTSTART:20230328T160000Z
DTEND:20230328T173000Z
X-MICROSOFT-CDO-ALLDAYEVENT:FALSE
SUMMARY:Strengthening the Workforce: Colorado Talent Pipeline Report
DESCRIPTION:Please join Arapahoe/Douglas Works! to learn about the Colorado Talent Pipeline Report. The report identifies shifts in demand and top jobs\; it examines the current issues impacting talent in all parts of Colorado. The agenda includes: *Report Highlights   Examining key components of the supply\, demand\, and strategies sections. *Recommendations   An overview of this year's policy recommendations. *Q&A   Time for attendees to ask questions. Guest Speaker: Caitlin McKennie is the talent pipeline economist for the Colorado Workforce Development Council Office and the Colorado Department of Higher Education. Register via Zoom at http://bit.ly/3JV37qC.
X-ALT-DESC;FMTTYPE=text/html:Please join Arapahoe/Douglas Works! to learn about the Colorado Talent Pipeline Report. The report identifies shifts in demand and top jobs\; it examines the current issues impacting talent in all parts of Colorado. The agenda includes: *Report Highlights &ndash\; Examining key components of the supply\, demand\, and strategies sections. *Recommendations &ndash\; An overview of this year&rsquo\;s policy recommendations. *Q&amp\;A &ndash\; Time for attendees to ask questions. Guest Speaker: Caitlin McKennie is the talent pipeline economist for the Colorado Workforce Development Council Office and the Colorado Department of Higher Education. Register via Zoom at http://bit.ly/3JV37qC.
LOCATION:Zoom
UID:e.2085.5923
SEQUENCE:3
DTSTAMP:20260419T173451Z
URL:http://parkerchamber.sampleorg.com/events/details/strengthening-the-workforce-colorado-talent-pipeline-report-5923
END:VEVENT

END:VCALENDAR
