BEGIN:VCALENDAR
VERSION:2.0
PRODID:-//ChamberMaster//Event Calendar 2.0//EN
METHOD:PUBLISH
X-PUBLISHED-TTL:P3D
REFRESH-INTERVAL:P3D
CALSCALE:GREGORIAN
BEGIN:VEVENT
DTSTART:20230313T220000Z
DTEND:20230313T233000Z
X-MICROSOFT-CDO-ALLDAYEVENT:FALSE
SUMMARY:Veterans Council Meeting
DESCRIPTION:The Parker Chamber's new Veterans Council will aim to provide professional resources to veterans\, promote available professional programs and opportunities\, and to encourage more veterans to start businesses in Parker.\n\n\n\nThis is the organizational meeting for the new council.  Please come help us shape this into a valuable working group benefitting entrepreneurial and professional veterans in the Parker area.\n\n \n\nThe Parker Chamber Veterans Council will meet every other month at a date and time to be determined. Any veteran whose business is a member of the Chamber\, or who works for a member business\, is welcome to participate.
X-ALT-DESC;FMTTYPE=text/html:<div align="justify" style="caret-color: rgb(37\, 78\, 112)\; color: rgb(37\, 78\, 112)\; font-family: &quot\;Century Gothic&quot\;\, Calibri\, Helvetica\, Arial\, sans-serif\; font-size: 14px\; text-size-adjust: auto\; text-align: justify\;"><span style="color: rgb(0\, 0\, 0)\;">The Parker Chamber&#39\;s new </span><span style="color: rgb(0\, 0\, 0)\; font-weight: bold\;">Veterans Council</span><span style="color: rgb(0\, 0\, 0)\;">&nbsp\;will aim to provide professional resources to veterans\, promote available professional programs and opportunities\, and to encourage more veterans to start businesses in Parker.<br />\n<br />\nThis is the organizational meeting for the new council.&nbsp\; Please come help us shape this into a valuable working group benefitting entrepreneurial and professional veterans in the Parker area.</span></div>\n\n<div align="justify" style="caret-color: rgb(37\, 78\, 112)\; color: rgb(37\, 78\, 112)\; font-family: &quot\;Century Gothic&quot\;\, Calibri\, Helvetica\, Arial\, sans-serif\; font-size: 14px\; text-size-adjust: auto\; text-align: justify\;">&nbsp\;</div>\n\n<div align="justify" style="caret-color: rgb(37\, 78\, 112)\; color: rgb(37\, 78\, 112)\; font-family: &quot\;Century Gothic&quot\;\, Calibri\, Helvetica\, Arial\, sans-serif\; font-size: 14px\; text-size-adjust: auto\; text-align: justify\;"><span style="color: rgb(0\, 0\, 0)\;">The </span><span style="color: rgb(0\, 0\, 0)\; font-weight: bold\;">Parker Chamber Veterans Council</span><span style="color: rgb(0\, 0\, 0)\;">&nbsp\;</span><span style="color: rgb(0\, 0\, 0)\;">will meet every other month at a date and time to be determined. Any veteran whose business is a member of the Chamber\, or who works for a member business\, is welcome to participate. </span></div>\n\n<div align="justify" style="caret-color: rgb(37\, 78\, 112)\; color: rgb(37\, 78\, 112)\; font-family: &quot\;Century Gothic&quot\;\, Calibri\, Helvetica\, Arial\, sans-serif\; font-size: 14px\; text-size-adjust: auto\; text-align: justify\;">&nbsp\;</div>\n\n<div align="justify" style="caret-color: rgb(37\, 78\, 112)\; color: rgb(37\, 78\, 112)\; font-family: &quot\;Century Gothic&quot\;\, Calibri\, Helvetica\, Arial\, sans-serif\; font-size: 14px\; text-size-adjust: auto\; text-align: justify\;">&nbsp\;</div>\n
LOCATION:Parker Library\, Event Room B\, 2nd Floor 20105 E. Mainstreet\, Parker
UID:e.2085.5922
SEQUENCE:3
DTSTAMP:20260419T160315Z
URL:http://parkerchamber.sampleorg.com/events/details/veterans-council-meeting-5922
END:VEVENT

END:VCALENDAR
