BEGIN:VCALENDAR
VERSION:2.0
PRODID:-//ChamberMaster//Event Calendar 2.0//EN
METHOD:PUBLISH
X-PUBLISHED-TTL:P3D
REFRESH-INTERVAL:P3D
CALSCALE:GREGORIAN
BEGIN:VEVENT
DTSTART:20230418T150000Z
DTEND:20230418T160000Z
X-MICROSOFT-CDO-ALLDAYEVENT:FALSE
SUMMARY:Virtual Seminar: "SECURE 2.0 Retirement Legislation Has Arrived in Style!"
DESCRIPTION:There is a lot going on with retirement savings legislation and state programs mandating retirement offerings for their employees. All eligible Colorado employers are required by law to facilitate Colorado's new SecureSavings Program if they don't offer a private retirement plan for their employees.\n\n\n\nThis FREE virtual event   hosted by Chamber member Kiley Robinette of PFS Investments   is ideal for business owners who want to learn about some of the new retirement plans SECURE 2.0 tax credits and changes to existing plans.\n\n\n\nLearn how the new tax credits can make this the best time to start a retirement plan.\n\n\n\n  Increased tax credits for employers with new 401(k) plans\n\n  Up to $15\,000 to offset administrative costs\n\n  Up to $3\,500 per employee to offset employer contributions\n\n  $1\,500 for employer who add automatic enrollment\n\n  a company with 10 eligible employees could qualify for up to $51\,500 in tax credits!\n\n\n\nTo register for this FREE informational webinar\, please CLICK HERE.
X-ALT-DESC;FMTTYPE=text/html:<span style="font-size:16px\;"><span style="color: rgb(35\, 35\, 51)\; font-family: &quot\;Almaden Sans&quot\;\, Helvetica\, Arial\; letter-spacing: 0.42px\;">There is a lot going on with retirement savings legislation and state programs mandating retirement offerings for their employees.&nbsp\;All eligible Colorado employers are required by law to facilitate Colorado&#39\;s new <a href="https://coloradosecuresavings.com/">SecureSavings Program</a> if they don&rsquo\;t offer a private retirement plan for their employees.<br />\n<br />\nThis <strong>FREE</strong> virtual event &ndash\; hosted by Chamber member Kiley Robinette of PFS Investments &ndash\; is ideal for business owners who want to learn about some of the new retirement plans SECURE 2.0 tax credits and changes to existing plans.</span><br style="color: rgb(35\, 35\, 51)\; font-family: &quot\;Almaden Sans&quot\;\, Helvetica\, Arial\; font-size: 14px\; letter-spacing: 0.42px\;" />\n<br style="color: rgb(35\, 35\, 51)\; font-family: &quot\;Almaden Sans&quot\;\, Helvetica\, Arial\; font-size: 14px\; letter-spacing: 0.42px\;" />\n<span style="color: rgb(35\, 35\, 51)\; font-family: &quot\;Almaden Sans&quot\;\, Helvetica\, Arial\; letter-spacing: 0.42px\;">Learn how the new tax credits can make this the best time to start a retirement plan.<br />\n<br />\n&bull\; Increased tax credits for employers with new 401(k) plans<br />\n&bull\; Up to $15\,000 to offset administrative costs<br />\n&bull\; Up to $3\,500 per employee to offset employer contributions</span><br />\n&bull\; $1\,500 for employer who add automatic enrollment<br />\n&bull\; a company with 10 eligible employees could qualify for up to $51\,500 in tax credits!<br />\n<br />\nTo register for this FREE informational webinar\, please <a href="https://us02web.zoom.us/meeting/register/tZ0uc-yhrT0iG9HBFpd2K9Dd93zDQ_0TQBQt"><strong>CLICK HERE</strong></a>.</span>
LOCATION:VIRTUAL ZOOM SEMINAR
UID:e.2085.6201
SEQUENCE:3
DTSTAMP:20260419T142847Z
URL:http://parkerchamber.sampleorg.com/events/details/virtual-seminar-secure-2-0-retirement-legislation-has-arrived-in-style-6201
END:VEVENT

END:VCALENDAR
