BEGIN:VCALENDAR
VERSION:2.0
PRODID:-//ChamberMaster//Event Calendar 2.0//EN
METHOD:PUBLISH
X-PUBLISHED-TTL:P3D
REFRESH-INTERVAL:P3D
CALSCALE:GREGORIAN
BEGIN:VEVENT
DTSTART:20210924T223000Z
DTEND:20210925T013000Z
X-MICROSOFT-CDO-ALLDAYEVENT:FALSE
SUMMARY:Wine Walk 2021
DESCRIPTION:WINE WALKS ARE HERE!\n\n\n\nDowntown Parker Wine Walks will take place June through September this year. Purchase a souvenir wine glass for $20 online or $25 at the door and enjoy wine samples provided by participating Parker Chamber merchants. Learn more about their business  while sipping and shopping and exploring Downtown Parker.\n\n\n\nWhether you are new to the area or just want a fun night out\, this is the event for you! \n\n\nTickets are $20 online and $25 at the door. You MUST be 21 years of age or older to participate.\n\n \n\nTICKETS ARE NON REFUNDABLE and NON TRANSFERABLE\n\nWINE WALKS TAKE PLACE\n\nRAIN OR SHINE!\n\n\n\nYou can now receive text messages from the Parker Chamber of Commerce about events by texting the word PARKER to 844-963-0889.  Unsubscribe anytime. Standard rates apply.
X-ALT-DESC;FMTTYPE=text/html:<span style="font-size: 16px\;"><span style="color:#660033\;"><span style="font-size:26px\;"><span style="font-family:verdana\;"><strong>WINE WALKS ARE HERE!</strong></span></span></span><br />\n<br />\n<span style="color: rgb(102\, 102\, 102)\; font-family: Arial\, Helvetica\, sans-serif\;">Downtown Parker Wine Walks will take place June through September this year. Purchase a souvenir wine glass for $20 online or $25 at the door and enjoy wine samples provided by participating Parker Chamber merchants. Learn more about their business &nbsp\;while sipping and shopping and exploring Downtown Parker.</span><br />\n<br />\n<span style="color:#660033\;"><span style="font-size:20px\;"><span style="font-family: Arial\, Helvetica\, sans-serif\;"><strong>Whether you are new to the area or just want a fun night out\, this is the event for you!&nbsp\;</strong></span></span></span></span>\n<div><br style="background-image: initial\; background-position: initial\; background-size: initial\; background-repeat: initial\; background-attachment: initial\; background-origin: initial\; background-clip: initial\; margin: 0px\; padding: 0px\; border-radius: 0px\; border: currentcolor\; left: auto\; top: auto\; width: auto\; height: auto\; right: auto\; bottom: auto\; color: rgb(102\, 102\, 102)\; line-height: inherit\; overflow: visible\; clear: none\; font-family: Arial\, Helvetica\, sans-serif\; font-size: 12px\; vertical-align: baseline\; float: none\; display: inline\; visibility: inherit\; border-collapse: separate\; position: static\; z-index: auto\; table-layout: auto\; direction: inherit\; max-height: none\; max-width: none\; content: normal\; box-sizing: content-box\; empty-cells: show\; font-stretch: inherit\; opacity: 1\; resize: none\; font-variant-numeric: inherit\; font-variant-east-asian: inherit\; outline-offset: 0px\;" />\n<span style="font-size: 16px\;"><span style="color: rgb(102\, 102\, 102)\; font-family: Arial\, Helvetica\, sans-serif\;">Tickets are $20 online and $25 at the door. You MUST be 21 years of age or older to participate.</span></span><br />\n&nbsp\;</div>\n\n<div><strong style="caret-color: rgb(102\, 0\, 51)\; color: rgb(102\, 0\, 51)\; font-size: 36px\;">TICKETS ARE NON REFUNDABLE and NON TRANSFERABLE<br />\nWINE WALKS TAKE PLACE<br />\nRAIN OR SHINE!</strong><br />\n<br />\n<strong><span style="font-family:arial\;"><span style="font-size:16px\;"><span style="caret-color: rgb(102\, 0\, 51)\;">You can now receive text messages from the Parker Chamber of Commerce about events by texting the word <span style="color:#800000\;">PARKER</span> to 844-963-0889.&nbsp\; Unsubscribe anytime. Standard rates apply.</span></span></span></strong></div>\n
LOCATION:Downtown Parker\, CO
UID:e.2085.5113
SEQUENCE:3
DTSTAMP:20260420T205615Z
URL:http://parkerchamber.sampleorg.com/events/details/wine-walk-2021-5113
END:VEVENT

END:VCALENDAR
