BEGIN:VCALENDAR
VERSION:2.0
PRODID:-//ChamberMaster//Event Calendar 2.0//EN
METHOD:PUBLISH
X-PUBLISHED-TTL:P3D
REFRESH-INTERVAL:P3D
CALSCALE:GREGORIAN
BEGIN:VEVENT
DTSTART:20230728T223000Z
DTEND:20230729T013000Z
X-MICROSOFT-CDO-ALLDAYEVENT:FALSE
SUMMARY:Wine Walk - July 28\, 2023 - CANCELED
DESCRIPTION:This event has been canceled. Please go HERE for an explanation\, and thank you for your patience.  If you have already purchased tickets to this event\, our staff will be in touch shortly to assist with refunds or credits to future Wine Walk events.
X-ALT-DESC;FMTTYPE=text/html:<span style="font-family: arial\, sans-serif\; font-size: 16px\;"><span style="font-size:20px\;"><span style="color:#FF0000\;"><strong>This event has been canceled. Please go <a href="https://www.parkerchamber.com/july28-2023/">HERE for an explanation</a>\, and thank you for your patience.&nbsp\; If you have already purchased tickets to this event\, our staff will be in touch shortly to assist with refunds or credits to future Wine Walk events.</strong></span></span></span>
LOCATION:Downtown Parker Check in at the Chamber Office 19751 E. Mainstreet\, #R-16\, Parker CO 80138
UID:e.2085.5906
SEQUENCE:3
DTSTAMP:20260421T085901Z
URL:http://parkerchamber.sampleorg.com/events/details/wine-walk-july-28-2023-canceled-5906
END:VEVENT

END:VCALENDAR
