BEGIN:VCALENDAR
VERSION:2.0
PRODID:-//ChamberMaster//Event Calendar 2.0//EN
METHOD:PUBLISH
X-PUBLISHED-TTL:P3D
REFRESH-INTERVAL:P3D
CALSCALE:GREGORIAN
BEGIN:VEVENT
DTSTART:20230526T223000Z
DTEND:20230527T013000Z
X-MICROSOFT-CDO-ALLDAYEVENT:FALSE
SUMMARY:Wine Walk - May 26\, 2023 - Sponsored by West Main Taproom & Grill
DESCRIPTION:ONLINE PRE-SALES HAVE ENDED.\n\nTICKETS ARE AVAILABLE AT THE DOOR FOR $30\n\nSTARTING AT 4:30pm\n\n\n\nPlease join us for Downtown Parker Wine Walks on the Final Fridays in Summer 2023\, sponsored by West Main Taproom and Grill.\n\n\n\nMore than 20 Downtown merchants will be pouring wine for participants at their business locations.  Gather your friends and colleagues\, grab your collectible glass and map at the Parker Chamber office\, and spend your evening wandering Downtown tasting and socializing.  It's a great way to make new friends and enjoy a beautiful evening in Parker.\n\n\n\nSave money by registering in advance\, or if your plans are uncertain\, you can buy your tickets at the door.\n\n\n\nEvents are rain or shine and begin at 4:30pm (you can arrive later\, if you like). Pick up your glass and get your wristbands at the Parker Chamber Office at Parker Station (19751 E. Mainstreet - come to the back of the building).\n\n\n\nAll participants must be over 21 and must present valid ID. All wine must be consumed on business premises   please don't take your drinks onto the street or sidewalk. \n\n\n\nThank you for your support of Downtown merchants and the Parker Chamber of Commerce.\n\n\n\nThe Lunchtime Leads Group will be accepting donations for the Parker Task Force. Please bring a non-perishable food item to help those in need in our community!
X-ALT-DESC;FMTTYPE=text/html:<span style="font-size: 16px\;"><span style="background-image: initial\; background-position: initial\; background-size: initial\; background-repeat: initial\; background-attachment: initial\; background-origin: initial\; background-clip: initial\;"><span style="font-family: arial\, sans-serif\;"><span style="color:#FF0000\;"><strong><span style="font-size:24px\;">ONLINE PRE-SALES HAVE ENDED.<br />\nTICKETS ARE AVAILABLE AT THE DOOR FOR $30<br />\nSTARTING AT 4:30pm</span></strong></span><br />\n<br />\nPlease join us for Downtown Parker&nbsp\;<strong>Wine Walks</strong>&nbsp\;on the Final Fridays in Summer 2023\, sponsored by <em><a href="https://westmaintaproom.com/"><strong>West Main Taproom and Grill</strong></a></em>.</span></span></span><br />\n<br />\n<span style="font-size: 16px\;"><span style="font-family: arial\, sans-serif\;">More than 20 Downtown merchants will be pouring wine for participants at their business locations.&nbsp\; Gather your friends and colleagues\, grab your collectible glass and map at the Parker Chamber office\, and spend your evening wandering Downtown tasting and socializing.&nbsp\; It&#39\;s a great way to make new friends and enjoy a beautiful evening in Parker.<br />\n<br />\nSave money by registering in advance\, or if your plans are uncertain\, you can buy your tickets at the door.<br />\n<br />\nEvents are rain or shine and begin at 4:30pm (you can arrive later\, if you like). Pick up your glass and get your wristbands at the Parker Chamber Office at Parker Station (19751 E. Mainstreet - come to the back of the building).<br />\n<br />\nAll participants must be over 21 and must present valid ID. All wine must be consumed on business premises &ndash\; please don&#39\;t take your drinks onto the street or sidewalk.&nbsp\;<br />\n<br />\nThank you for your support of Downtown merchants and the Parker Chamber of Commerce.<br />\n<br />\nThe Lunchtime Leads Group will be accepting donations for the <a href="https://parkertaskforce.org/WP/">Parker Task Force</a>. Please bring a non-perishable food item to help those in need in our community!</span></span>
LOCATION:Downtown Parker Check in at the Chamber Office 19751 E. Mainstreet\, #R-16\, Parker CO 80138
UID:e.2085.5904
SEQUENCE:3
DTSTAMP:20260419T125626Z
URL:http://parkerchamber.sampleorg.com/events/details/wine-walk-may-26-2023-sponsored-by-west-main-taproom-grill-5904
END:VEVENT

END:VCALENDAR
