BEGIN:VCALENDAR
VERSION:2.0
PRODID:-//ChamberMaster//Event Calendar 2.0//EN
METHOD:PUBLISH
X-PUBLISHED-TTL:P3D
REFRESH-INTERVAL:P3D
CALSCALE:GREGORIAN
BEGIN:VEVENT
DTSTART:20220930T223000Z
DTEND:20221001T013000Z
X-MICROSOFT-CDO-ALLDAYEVENT:FALSE
SUMMARY:Wine Walk - September 2022 - Sponsored by Jennifer Tinsley State Farm Insurance
DESCRIPTION:Please join us for the last Downtown Parker Wine Walk of 2022 on Friday\, September 30th. \n\n\n\nSummer 2022 Downtown Parker Wine Walks are sponsored by Jennifer Tinsley\, State Farm Insurance.\n\n\n\nMore than 20 Downtown merchants will be pouring wine for participants at their business locations.  Gather your friends and colleagues\, grab your collectible glass and map at the Parker Chamber office\, and spend your evening wandering Downtown tasting and socializing.  It's a great way to make new friends and enjoy a beautiful evening in Parker.\n\n\n\nSave money by registering in advance\, or if your plans are uncertain\, you can buy your tickets at the door.\n\n\n\nEvents are rain or shine and begin at 4:30pm (you can arrive later\, if you like). Pick up your glass and get your wristbands at the Parker Chamber Office at Parker Station (19751 E. Mainstreet - come to the back of the building).\n\n\n\nAll participants must be over 21. Everyone must present valid ID. All wine must be consumed on business premises   please don't take your drinks onto the street or sidewalk. \n\n\n\nThank you for your support of Downtown merchants and the Parker Chamber of Commerce.
X-ALT-DESC;FMTTYPE=text/html:<span style="font-size:16px\;"><span style="background-image:initial\;background-position:initial\;background-size:initial\;background-repeat:initial\;background-attachment:initial\;background-origin:initial\;background-clip:initial\;"><span style="font-family: arial\, sans-serif\;">Please join us for the last Downtown Parker&nbsp\;<strong>Wine Walk </strong>of 2022 on Friday\, September 30th.&nbsp\;</span></span></span><br />\n<br />\n<span style="font-family: arial\, sans-serif\; font-size: 16px\;">Summer 2022 Downtown Parker Wine Walks are sponsored by&nbsp\;</span><a href="https://www.jennifertinsley.com/" style="font-family: arial\, sans-serif\; font-size: 16px\;"><strong>Jennifer Tinsley\, State Farm Insurance</strong></a><span style="font-family: arial\, sans-serif\; font-size: 16px\;">.</span><br style="font-family: arial\, sans-serif\; font-size: 16px\;" />\n<br />\n<span style="font-size:16px\;"><span style="font-family: arial\, sans-serif\;">More than 20 Downtown merchants will be pouring wine for participants at their business locations.&nbsp\; Gather your friends and colleagues\, grab your collectible glass and map at the Parker Chamber office\, and spend your evening wandering Downtown tasting and socializing.&nbsp\; It&#39\;s a great way to make new friends and enjoy a beautiful evening in Parker.<br />\n<br />\nSave money by registering in advance\, or if your plans are uncertain\, you can buy your tickets at the door.<br />\n<br />\nEvents are rain or shine and begin at 4:30pm (you can arrive later\, if you like). Pick up your glass and get your wristbands at the Parker Chamber Office at Parker Station (19751 E. Mainstreet - come to the back of the building).<br />\n<br />\nAll participants must be over 21. Everyone must present valid ID. All wine must be consumed on business premises &ndash\; please don&#39\;t take your drinks onto the street or sidewalk.&nbsp\;<br />\n<br />\nThank you for your support of Downtown merchants and the Parker Chamber of Commerce.</span></span>
LOCATION:Downtown Parker Check in at the Chamber Office 19751 E. Mainstreet\, #R-16\, Parker CO 80138
UID:e.2085.5292
SEQUENCE:3
DTSTAMP:20260420T011720Z
URL:http://parkerchamber.sampleorg.com/events/details/wine-walk-september-2022-sponsored-by-jennifer-tinsley-state-farm-insurance-5292
END:VEVENT

END:VCALENDAR
