BEGIN:VCALENDAR
VERSION:2.0
PRODID:-//ChamberMaster//Event Calendar 2.0//EN
METHOD:PUBLISH
X-PUBLISHED-TTL:P3D
REFRESH-INTERVAL:P3D
CALSCALE:GREGORIAN
BEGIN:VEVENT
DTSTART:20211119T233000Z
DTEND:20211120T023000Z
X-MICROSOFT-CDO-ALLDAYEVENT:FALSE
SUMMARY:WINTER WINE WALK 2021
DESCRIPTION:TICKETS ARE STILL AVAILABLE AT THE DOOR TONIGHT AT 4:30 P.M.\n\nStart the holiday shopping season with a special Winter Wine Walk\, featuring wines and special holiday concoctions from more than two dozen Downtown Parker merchants.  Wrap yourself up\, grab a special commemorative mug\, and network with friends the Friday before Thanksgiving.\n\n\n\nIf you love the summer Wine Walk events\, you're going to love this special event.  Merchants will be offering holiday specials. You can enjoy tasty beverages and make a dent in your holiday shopping list!\n\n\n\nThank you to our sponsor\, Jennifer Tinsley State Farm.\n\n\n\n**********\n\n\n\nTickets are non-transferable. You must be 21+ to participate. This event will only be canceled (and refunds made) in the event of SEVERE WEATHER\, at the sole discretion of organizers.  No other tickets refunds permitted.\n\n\n\nPlease sign up for the chamber's texting service to receive weather-related cancellations or other important event notifications. \n\n\n\nText the word PARKER to 844-963-0889.  You can unsubscribe any time. Standard messaging rates apply.
X-ALT-DESC;FMTTYPE=text/html:<span style="color:#800000\;"><span style="font-size:18px\;"><strong>TICKETS ARE STILL AVAILABLE AT THE DOOR TONIGHT AT 4:30 P.M.</strong></span></span><br />\n<span style="font-size:16px\;">Start the holiday shopping season with a special Winter Wine Walk\, featuring wines and special holiday concoctions from more than two dozen Downtown Parker merchants.&nbsp\; Wrap yourself up\, grab a special commemorative mug\, and network with friends the Friday before Thanksgiving.<br />\n<br />\nIf you love the summer Wine Walk events\, you&#39\;re going to love this special event.&nbsp\; Merchants will be offering holiday specials. You can enjoy tasty beverages and make a dent in your holiday shopping list!<br />\n<br />\nThank you to our sponsor\, <a href="http://www.jennifertinsley.com"><strong>Jennifer Tinsley State Farm</strong></a>.<br />\n<br />\n**********<br />\n<br />\n<em>Tickets are non-transferable. You must be 21+ to participate.&nbsp\;</em></span><em style="font-size: 16px\;">This event will only be canceled (and refunds made) in the event of&nbsp\;<strong>SEVERE WEATHER\,&nbsp\;</strong>at the sole discretion of organizers.&nbsp\; No other tickets refunds permitted.</em><br />\n<br />\n<span style="font-size:16px\;"><em>Please sign up for the chamber&#39\;s texting service to receive weather-related cancellations or other important event notifications.&nbsp\;<br />\n<br />\nText the word <span style="color:#A52A2A\;"><strong>PARKER</strong></span> to 844-963-0889.&nbsp\; You can unsubscribe any time. Standard messaging rates apply.</em></span>
LOCATION:Downtown Parker Registration at the Chamber Office at Parker Station
UID:e.2085.5286
SEQUENCE:3
DTSTAMP:20260420T162955Z
URL:http://parkerchamber.sampleorg.com/events/details/winter-wine-walk-2021-5286
END:VEVENT

END:VCALENDAR
