BEGIN:VCALENDAR
VERSION:2.0
PRODID:-//ChamberMaster//Event Calendar 2.0//EN
METHOD:PUBLISH
X-PUBLISHED-TTL:P3D
REFRESH-INTERVAL:P3D
CALSCALE:GREGORIAN
BEGIN:VEVENT
DTSTART:20210915T143000Z
DTEND:20210915T160000Z
X-MICROSOFT-CDO-ALLDAYEVENT:FALSE
SUMMARY:WOMEN'S FORUM - Aesthetics 360 Face & Body
DESCRIPTION:Aesthetics 360\n\n~~~~~~~~~~~~~~~\n\n\n\nThis monthly networking event is for women of the Parker Chamber of Commerce to learn about and support each other's businesses.  Attendees are encourage to bring business cards and marketing brochures. You are welcome to bring an item for the raffle drawing at the end of the event.
X-ALT-DESC;FMTTYPE=text/html:<span style="font-size:24px\;"><span style="color:#0000CD\;"><strong><span style="font-family:comic sans ms\;">Aesthetics 360</span></strong></span><br />\n<span style="color:#808080\;"><strong><span style="font-family:comic sans ms\;">~~~~~~~~~~~~~~~</span></strong></span></span><br />\n<br />\n<strong><span style="font-size:18px\;"><em><span style="font-family: arial\;">This&nbsp\;monthly networking event is for women of the Parker Chamber of Commerce to learn about and support each other&#39\;s businesses.&nbsp\; Attendees are encourage to bring business cards and marketing brochures. You are welcome to bring an item for the raffle drawing at the end of the event.</span></em></span></strong><br />\n&nbsp\;
LOCATION:9647 Solar Circle Parker\, CO 80134
UID:e.2085.5281
SEQUENCE:3
DTSTAMP:20260420T193949Z
URL:http://parkerchamber.sampleorg.com/events/details/women-s-forum-aesthetics-360-face-body-5281
END:VEVENT

END:VCALENDAR
