BEGIN:VCALENDAR
VERSION:2.0
PRODID:-//ChamberMaster//Event Calendar 2.0//EN
METHOD:PUBLISH
X-PUBLISHED-TTL:P3D
REFRESH-INTERVAL:P3D
CALSCALE:GREGORIAN
BEGIN:VEVENT
DTSTART:20230222T153000Z
DTEND:20230222T170000Z
X-MICROSOFT-CDO-ALLDAYEVENT:FALSE
SUMMARY:WOMEN'S FORUM - AutoMart
DESCRIPTION:Auto Mart USA   \n\n\n\nThis monthly networking event is for women of the Parker Chamber of Commerce to learn about and support each other's businesses.  Attendees are encouraged to bring business cards and marketing brochures. You are welcome to bring an item for the raffle drawing at the end of the event.
X-ALT-DESC;FMTTYPE=text/html:<strong><span style="color:#A52A2A\;"><font face="comic sans ms"><span style="font-size: 24px\;">Auto Mart USA &#10084\;&#65039\;</span></font></span><br />\n<br />\n<span style="font-size: 18px\; font-style: italic\; font-family: arial\;">This&nbsp\;monthly networking event is for women of the Parker Chamber of Commerce to learn about and support each other&#39\;s businesses.&nbsp\; Attendees are encouraged to bring business cards and marketing brochures. You are welcome to bring an item for the raffle drawing at the end of the event.</span></strong><br />\n&nbsp\;
LOCATION:Auto Mart USA 9895 S. Twenty Mile Road Parker\, CO 80134
UID:e.2085.5894
SEQUENCE:3
DTSTAMP:20260419T173844Z
URL:http://parkerchamber.sampleorg.com/events/details/women-s-forum-automart-5894
END:VEVENT

END:VCALENDAR
