BEGIN:VCALENDAR
VERSION:2.0
PRODID:-//ChamberMaster//Event Calendar 2.0//EN
METHOD:PUBLISH
X-PUBLISHED-TTL:P3D
REFRESH-INTERVAL:P3D
CALSCALE:GREGORIAN
BEGIN:VEVENT
DTSTART:20220720T143000Z
DTEND:20220720T160000Z
X-MICROSOFT-CDO-ALLDAYEVENT:FALSE
SUMMARY:WOMEN'S FORUM - CAMP GLADIATOR
DESCRIPTION:CAMP GLADIATOR\n\n\n\nThis monthly networking event is for women of the Parker Chamber of Commerce to learn about and support each other's businesses.  Attendees are encouraged to bring business cards and marketing brochures. You are welcome to bring an item for the raffle drawing at the end of the event.
X-ALT-DESC;FMTTYPE=text/html:<strong><font color="#a52a2a" face="comic sans ms" size="5"><span style="caret-color: rgb(165\, 42\, 42)\;">CAMP GLADIATOR</span></font><br />\n<br />\n<span style="font-size: 18px\; font-style: italic\; font-family: arial\;">This&nbsp\;monthly networking event is for women of the Parker Chamber of Commerce to learn about and support each other&#39\;s businesses.&nbsp\; Attendees are encouraged to bring business cards and marketing brochures. You are welcome to bring an item for the raffle drawing at the end of the event.</span></strong><br />\n&nbsp\;
LOCATION:Challenger Park Paviliions Parker\, CO
UID:e.2085.5497
SEQUENCE:3
DTSTAMP:20260420T042807Z
URL:http://parkerchamber.sampleorg.com/events/details/women-s-forum-camp-gladiator-5497
END:VEVENT

END:VCALENDAR
