BEGIN:VCALENDAR
VERSION:2.0
PRODID:-//ChamberMaster//Event Calendar 2.0//EN
METHOD:PUBLISH
X-PUBLISHED-TTL:P3D
REFRESH-INTERVAL:P3D
CALSCALE:GREGORIAN
BEGIN:VEVENT
DTSTART:20211117T153000Z
DTEND:20211117T170000Z
X-MICROSOFT-CDO-ALLDAYEVENT:FALSE
SUMMARY:WOMEN'S FORUM - CLOSET FACTORY
DESCRIPTION:Closet Factory\n\n\n\nThis monthly networking event is for women of the Parker Chamber of Commerce to learn about and support each other's businesses.  Attendees are encouraged to bring business cards and marketing brochures. You are welcome to bring an item for the raffle drawing at the end of the event.
X-ALT-DESC;FMTTYPE=text/html:<strong><font color="#0000cd" face="comic sans ms"><span style="font-size: 24px\;">Closet Factory</span></font><br />\n<br />\n<span style="font-size: 18px\; font-style: italic\; font-family: arial\;">This&nbsp\;monthly networking event is for women of the Parker Chamber of Commerce to learn about and support each other&#39\;s businesses.&nbsp\; Attendees are encouraged to bring business cards and marketing brochures. You are welcome to bring an item for the raffle drawing at the end of the event.</span></strong><br />\n&nbsp\;
LOCATION:8480 Upland Drive\, Suite 200 Parker\, CO 80112
UID:e.2085.5284
SEQUENCE:3
DTSTAMP:20260420T163554Z
URL:http://parkerchamber.sampleorg.com/events/details/women-s-forum-closet-factory-5284
END:VEVENT

END:VCALENDAR
