BEGIN:VCALENDAR
VERSION:2.0
PRODID:-//ChamberMaster//Event Calendar 2.0//EN
METHOD:PUBLISH
X-PUBLISHED-TTL:P3D
REFRESH-INTERVAL:P3D
CALSCALE:GREGORIAN
BEGIN:VEVENT
DTSTART:20221116T153000Z
DTEND:20221116T170000Z
X-MICROSOFT-CDO-ALLDAYEVENT:FALSE
SUMMARY:WOMEN'S FORUM - INVISION SALLY JOBE
DESCRIPTION:This monthly networking event is for women of the Parker Chamber of Commerce to learn about and support each other's businesses.  Attendees are encouraged to bring business cards and marketing brochures. You are welcome to bring an item for the raffle drawing at the end of the event.
X-ALT-DESC;FMTTYPE=text/html:<strong><span style="font-size: 18px\; font-style: italic\; font-family: arial\;">This&nbsp\;monthly networking event is for women of the Parker Chamber of Commerce to learn about and support each other&#39\;s businesses.&nbsp\; Attendees are encouraged to bring business cards and marketing brochures. You are welcome to bring an item for the raffle drawing at the end of the event.</span></strong><br />\n&nbsp\;
LOCATION:Robek's (across the parking lot from Invision) 12235 Pine Bluffs Way Parker\, CO 80134
UID:e.2085.5804
SEQUENCE:3
DTSTAMP:20260419T234626Z
URL:http://parkerchamber.sampleorg.com/events/details/women-s-forum-invision-sally-jobe-5804
END:VEVENT

END:VCALENDAR
