BEGIN:VCALENDAR
VERSION:2.0
PRODID:-//ChamberMaster//Event Calendar 2.0//EN
METHOD:PUBLISH
X-PUBLISHED-TTL:P3D
REFRESH-INTERVAL:P3D
CALSCALE:GREGORIAN
BEGIN:VEVENT
DTSTART:20220216T153000Z
DTEND:20220216T170000Z
X-MICROSOFT-CDO-ALLDAYEVENT:FALSE
SUMMARY:Women's Forum - Parker Arts
DESCRIPTION:Hosted by Parker Arts \n\n\n\nThis monthly networking event is for women of the Parker Chamber of Commerce to learn about and support each other's businesses.  Attendees are encourage to bring business cards and marketing brochures. You are welcome to bring an item for the raffle drawing at the end of the event.  Each attendee will have 30 seconds to give their business commercial and the opportunity to give a shout out to another business in attendance.
X-ALT-DESC;FMTTYPE=text/html:<span style="color: rgb(128\, 128\, 128)\; font-family: arial\; font-size: 14px\;"><span style="font-size: 20px\;"><strong>Hosted by&nbsp\;Parker Arts&nbsp\;</strong></span><br />\n<br />\n<span style="font-size: 16px\;">This&nbsp\;monthly networking event is for women of the Parker Chamber of Commerce to learn about and support each other&#39\;s businesses.&nbsp\; Attendees are encourage to bring business cards and marketing brochures. You are welcome to bring an item for the raffle drawing at the end of the event.&nbsp\; Each attendee will have 30 seconds to give their business commercial and the opportunity&nbsp\;to give a shout out to another business in attendance.</span></span>
LOCATION:This event will be hosted at the PACE Center 20000 Pikes Peak Avenue Parker\, CO 80138
UID:e.2085.5381
SEQUENCE:3
DTSTAMP:20260420T120309Z
URL:http://parkerchamber.sampleorg.com/events/details/women-s-forum-parker-arts-5381
END:VEVENT

END:VCALENDAR
