BEGIN:VCALENDAR
VERSION:2.0
PRODID:-//ChamberMaster//Event Calendar 2.0//EN
METHOD:PUBLISH
X-PUBLISHED-TTL:P3D
REFRESH-INTERVAL:P3D
CALSCALE:GREGORIAN
BEGIN:VEVENT
DTSTART:20230125T153000Z
DTEND:20230125T170000Z
X-MICROSOFT-CDO-ALLDAYEVENT:FALSE
SUMMARY:WOMEN'S FORUM - The Nest Salon & Boutique
DESCRIPTION:The Nest Salon & Boutique\n\nDate Change to January 25\n\ndue to Inclement Weather\n\n\n\nThis monthly networking event is for women of the Parker Chamber of Commerce to learn about and support each other's businesses.  Attendees are encouraged to bring business cards and marketing brochures. You are welcome to bring an item for the raffle drawing at the end of the event.
X-ALT-DESC;FMTTYPE=text/html:<strong><span style="color:#A52A2A\;"><font face="comic sans ms"><span style="font-size: 24px\;">The Nest Salon &amp\; Boutique</span></font></span><br />\n<span style="color:#696969\;"><font face="comic sans ms"><span style="font-size: 24px\;">Date Change to January 25<br />\ndue to Inclement Weather</span></font></span><br />\n<br />\n<span style="font-size: 18px\; font-style: italic\; font-family: arial\;">This&nbsp\;monthly networking event is for women of the Parker Chamber of Commerce to learn about and support each other&#39\;s businesses.&nbsp\; Attendees are encouraged to bring business cards and marketing brochures. You are welcome to bring an item for the raffle drawing at the end of the event.</span></strong><br />\n&nbsp\;
LOCATION:19560 E. Mainstreet Downtown\, Parker\, CO 80138
UID:e.2085.5869
SEQUENCE:3
DTSTAMP:20260419T204008Z
URL:http://parkerchamber.sampleorg.com/events/details/women-s-forum-the-nest-salon-boutique-5869
END:VEVENT

END:VCALENDAR
