BEGIN:VCALENDAR
VERSION:2.0
PRODID:-//ChamberMaster//Event Calendar 2.0//EN
METHOD:PUBLISH
X-PUBLISHED-TTL:P3D
REFRESH-INTERVAL:P3D
CALSCALE:GREGORIAN
BEGIN:VEVENT
DTSTART:20220817T143000Z
DTEND:20220817T160000Z
X-MICROSOFT-CDO-ALLDAYEVENT:FALSE
SUMMARY:Women's Forum - The Red Farmhouse Bed and Breakfast
DESCRIPTION:This monthly networking event is for women of the Parker Chamber of Commerce to learn about and support each other's businesses.  Attendees are encourage to bring business cards and marketing brochures. You are welcome to bring an item for the raffle drawing at the end of the event.  Each attendee will have 30 seconds to give their business commercial and the opportunity to give a shout out to another
X-ALT-DESC;FMTTYPE=text/html:<br />\n<span style="font-size:16px\;"><span style="color: rgb(128\, 128\, 128)\; font-family: arial\;">This&nbsp\;monthly networking event is for women of the Parker Chamber of Commerce to learn about and support each other&#39\;s businesses.&nbsp\; Attendees are encourage to bring business cards and marketing brochures. You are welcome to bring an item for the raffle drawing at the end of the event.&nbsp\; Each attendee will have 30 seconds to give their business commercial and the opportunity&nbsp\;to give a shout out to another</span></span>
LOCATION:11147 E Bronco Dr. Parker\, CO 80138 http://www.redfarmhousebedandbreakfast.com
UID:e.2085.5498
SEQUENCE:3
DTSTAMP:20260420T025249Z
URL:http://parkerchamber.sampleorg.com/events/details/women-s-forum-the-red-farmhouse-bed-and-breakfast-5498
END:VEVENT

END:VCALENDAR
