BEGIN:VCALENDAR
VERSION:2.0
PRODID:-//ChamberMaster//Event Calendar 2.0//EN
METHOD:PUBLISH
X-PUBLISHED-TTL:P3D
REFRESH-INTERVAL:P3D
CALSCALE:GREGORIAN
BEGIN:VEVENT
DTSTART:20220119T153000Z
DTEND:20220119T170000Z
X-MICROSOFT-CDO-ALLDAYEVENT:FALSE
SUMMARY:WOMEN'S FORUM - VIBE FOODS
DESCRIPTION:VIBE FOODS\n\n\n\nThis monthly networking event is for women of the Parker Chamber of Commerce to learn about and support each other's businesses.  Attendees are encouraged to bring business cards and marketing brochures. You are welcome to bring an item for the raffle drawing at the end of the event.
X-ALT-DESC;FMTTYPE=text/html:<span style="color:#00FF00\;"><strong><span style="font-size:18px\;"><span style="font-family:verdana\;">VIBE FOODS</span></span></strong></span><br />\n<br />\n<strong><span style="font-size: 18px\; font-style: italic\; font-family: arial\;">This&nbsp\;monthly networking event is for women of the Parker Chamber of Commerce to learn about and support each other&#39\;s businesses.&nbsp\; Attendees are encouraged to bring business cards and marketing brochures. You are welcome to bring an item for the raffle drawing at the end of the event.</span></strong><br />\n&nbsp\;
LOCATION:18320 E Cottonwood Dr Unit A Parker\, CO
UID:e.2085.5400
SEQUENCE:3
DTSTAMP:20260420T150228Z
URL:http://parkerchamber.sampleorg.com/events/details/women-s-forum-vibe-foods-5400
END:VEVENT

END:VCALENDAR
