BEGIN:VCALENDAR
VERSION:2.0
PRODID:-//ChamberMaster//Event Calendar 2.0//EN
METHOD:PUBLISH
X-PUBLISHED-TTL:P3D
REFRESH-INTERVAL:P3D
CALSCALE:GREGORIAN
BEGIN:VEVENT
DTSTART:20230315T143000Z
DTEND:20230315T160000Z
X-MICROSOFT-CDO-ALLDAYEVENT:FALSE
SUMMARY:WOMEN'S FORUM - Victoria Marie Jewelers
DESCRIPTION:Come to the beautiful\n\nVictoria Marie Jewelers in The Ascent Hotel\n\n\n\nThis monthly networking event is for women of the Parker Chamber of Commerce to learn about and support each other's businesses.  Attendees are encouraged to bring business cards and marketing brochures. You are welcome to bring an item for the raffle drawing at the end of the event.\n\n\n\nAmazing Gift Cards for Drawing - West Main\, Fika\, etc\n\nBeautiful giveaways!\n\nSpecials - BOGO permanent bracelets for attendees.
X-ALT-DESC;FMTTYPE=text/html:<strong><span style="font-size:26px\;"><span style="font-family:times new roman\;"><span style="color:#000000\;"><em>Come to the beautiful</em></span><br />\n<span style="color:#DAA520\;">Victoria Marie Jewelers in The Ascent Hotel</span></span></span><br />\n<br />\n<span style="font-size: 18px\; font-style: italic\; font-family: arial\;">This&nbsp\;monthly networking event is for women of the Parker Chamber of Commerce to learn about and support each other&#39\;s businesses.&nbsp\; Attendees are encouraged to bring business cards and marketing brochures. You are welcome to bring an item for the raffle drawing at the end of the event.</span></strong><br />\n<br />\n<span style="font-size:20px\;"><strong><span style="color:#DAA520\;"><em>Amazing Gift Cards for Drawing - West Main\, Fika\, etc<br />\nBeautiful giveaways!<br />\nSpecials - BOGO permanent&nbsp\;</em></span></strong><span style="color:#DAA520\;"><span style="caret-color: rgb(178\, 34\, 34)\;"><b><i>bracelets for attendees.</i></b></span></span></span>
LOCATION:18595 Mainstreet Suite 130 Parker\, CO 80138
UID:e.2085.5895
SEQUENCE:3
DTSTAMP:20260419T160804Z
URL:http://parkerchamber.sampleorg.com/events/details/women-s-forum-victoria-marie-jewelers-5895
END:VEVENT

END:VCALENDAR
